BEGIN:VCALENDAR
VERSION:2.0
PRODID:-//Max 98.3 - ECPv4.6.26//NONSGML v1.0//EN
CALSCALE:GREGORIAN
METHOD:PUBLISH
X-WR-CALNAME:Max 98.3
X-ORIGINAL-URL:https://max983.ca
X-WR-CALDESC:Events for Max 98.3
BEGIN:VEVENT
DTSTART;VALUE=DATE:20170221
DTEND;VALUE=DATE:20170222
DTSTAMP:20260424T124810
CREATED:20170216T204908Z
LAST-MODIFIED:20170216T204908Z
UID:1920-1487635200-1487721599@max983.ca
SUMMARY:Taste of Winter: Learn to Curl
DESCRIPTION:Taste of Winter: Learn to Curl \nSchooner Curling Club \nTuesday\, February 21\, 7 – 9 PM \nOpen to individuals 19+.  Bring clean sneakers and hit the ice for a free introductory lesson in one of Canada’s signature sports.  Experienced teachers will be on hand to help you with your form and to have a ton of fun. \n
URL:https://max983.ca/event/taste-of-winter-learn-to-curl/
END:VEVENT
BEGIN:VEVENT
DTSTART;VALUE=DATE:20170221
DTEND;VALUE=DATE:20170222
DTSTAMP:20260424T124810
CREATED:20170216T210727Z
LAST-MODIFIED:20170216T210727Z
UID:1936-1487635200-1487721599@max983.ca
SUMMARY:FLK Taoist Tai Chi Beginner Class
DESCRIPTION:Tai Chi is a gentle set of exercises designed to improve all aspects of your life including balance\, sleep and digestion. No special equipment is required.   FLK Taoist Tai Chi is starting a Beginner Class at two locations: Sydney at Club 55\, 70 Prince St\, Tuesday February 21\, 10 am to noon and Northside at Bras d’Or Hall\, 24 Villa Dr\, Wednesday February 22\, from 6:30 – 8:30 pm.  ALL ARE WELCOME. Come see what it is all about. \n
URL:https://max983.ca/event/flk-taoist-tai-chi-beginner-class/
END:VEVENT
BEGIN:VEVENT
DTSTART;VALUE=DATE:20170221
DTEND;VALUE=DATE:20170222
DTSTAMP:20260424T124810
CREATED:20170216T212009Z
LAST-MODIFIED:20170216T212009Z
UID:1941-1487635200-1487721599@max983.ca
SUMMARY:Solar Energy in Cape Breton
DESCRIPTION:Solar Energy in Cape Breton \nTuesday Feb 21st\, 7 pm\nMcConnell Library\, 50 Falmouth St\, Sydney \nAntigonish Community Energy (ACE) Cooperative is a volunteer not-for-profit organization that promotes the development of community-based solar energy in the Antigonish area and in Cape Breton. It helps communities obtain sustainable\, clean\, renewable energy production at an affordable price through bulk purchases of solar panels.  Its mission includes energy efficiency and security\, environmental responsibility\, and relieving energy poverty in communities. \nJoin Kevin Latimer\, board member of the ACE Co-op and Energy and Facilities Supervisor at St F.X. University\, for information about solar energy\, how the ACE Co-op works and upcoming solar energy policies in Nova Scotia. \nEveryone welcome! \n
URL:https://max983.ca/event/solar-energy-in-cape-breton/
END:VEVENT
END:VCALENDAR