BEGIN:VCALENDAR
VERSION:2.0
PRODID:-//Max 98.3 - ECPv4.6.26//NONSGML v1.0//EN
CALSCALE:GREGORIAN
METHOD:PUBLISH
X-WR-CALNAME:Max 98.3
X-ORIGINAL-URL:https://max983.ca
X-WR-CALDESC:Events for Max 98.3
BEGIN:VEVENT
DTSTART;VALUE=DATE:20170224
DTEND;VALUE=DATE:20170225
DTSTAMP:20260424T080341
CREATED:20170216T205818Z
LAST-MODIFIED:20170216T205818Z
UID:1927-1487894400-1487980799@max983.ca
SUMMARY:"Bay It Forward" first winter market
DESCRIPTION:Join Glace Bay’s new development group “Bay It Forward” at the first\nwinter market\, Friday February 24th.\nThe market takes place at the beautiful Savoy Theatre in Glace Bay\nfrom 6:00pm – 8:00pm.\nand will feature a multitude of vendors including crafters\, Breton\nBrewing\, Scentsy\, Shaw’s Fish\, Michique Purses\, Bee Happy Farm\nYounique\, and many more.\nSave the date\, come out to mingle and support local businesses! \n
URL:https://max983.ca/event/bay-it-forward-first-winter-market/
END:VEVENT
BEGIN:VEVENT
DTSTART;VALUE=DATE:20170224
DTEND;VALUE=DATE:20170225
DTSTAMP:20260424T080341
CREATED:20170216T205922Z
LAST-MODIFIED:20170216T205922Z
UID:1928-1487894400-1487980799@max983.ca
SUMMARY:Bay It Forward second community mixer
DESCRIPTION:Bay It Forward\, Glace Bay’s new development group is hosting its\nsecond community mixer on Friday\, February 24th from 4:00pm – 6:00pm.\nBusiness leaders\, volunteers\, community members\, EVERYONE is invited\nto come out to TALO\, Commercial Street Glace Bay to mix and mingle!\nGet to know the people in our community and collaborate on how we can\ndevelop the Bay together! \n
URL:https://max983.ca/event/bay-it-forward-second-community-mixer/
END:VEVENT
END:VCALENDAR