BEGIN:VCALENDAR
VERSION:2.0
PRODID:-//Max 98.3 - ECPv4.6.26//NONSGML v1.0//EN
CALSCALE:GREGORIAN
METHOD:PUBLISH
X-WR-CALNAME:Max 98.3
X-ORIGINAL-URL:https://max983.ca
X-WR-CALDESC:Events for Max 98.3
BEGIN:VEVENT
DTSTART;VALUE=DATE:20170225
DTEND;VALUE=DATE:20170226
DTSTAMP:20260424T061337
CREATED:20170216T205409Z
LAST-MODIFIED:20170216T205409Z
UID:1924-1487980800-1488067199@max983.ca
SUMMARY:“The Case of the Missing Treasure ” Box Office Dates
DESCRIPTION:The Taint’d Saints of St. John the Baptist Anglican Church\, 28 King Street\, North Sydney once again will be presenting their Annual Dinner Theater\, “The Case of the Missing Treasure ”!!! This year’s shows will be Friday\, April 28th\, Saturday\, April 29th\, Sunday\, April 30th\, Friday\, May 5th & Saturday May 6th. Doors open at 6:30 pm and the performance begins at 7:00 pm each night. Tickets are $30.00 per person and this includes Salad\, Roast Beef Supper\, Dessert\, tea/coffee & of course Entertainment!!! Advance tickets sales & Reserve seats only! Tickets cannot be refunded or exchanged!  TICKETS ARE NOT AVAILABLE AT THE PARISH OFFICE.  Wine available Pre-show and Intermission at an extra cost of $5.00 per glass. Box Office dates are Saturday\, February 25th from 1:00 pm until 3:00 pm\, Saturday\, March 4th from 1:00 pm until 3:00 and Thursday\, March 9th from 7:00 until 8:00 p. After the final box office\,  please contact M. Ramsey at 902-794-3326 for tickets. \n
URL:https://max983.ca/event/the-case-of-the-missing-treasure-box-office-dates/
END:VEVENT
BEGIN:VEVENT
DTSTART;VALUE=DATE:20170225
DTEND;VALUE=DATE:20170226
DTSTAMP:20260424T061337
CREATED:20170216T212327Z
LAST-MODIFIED:20170216T212327Z
UID:1943-1487980800-1488067199@max983.ca
SUMMARY:Pancake & Sausage Breakfast
DESCRIPTION:Pancake & Sausage Breakfast\nImmaculate Conception Parish Dominion\nSaturday\, February 25\, 2017\n9 AM – 12 PM Eat In or Take Out\n$6 per person \n
URL:https://max983.ca/event/pancake-sausage-breakfast/
END:VEVENT
BEGIN:VEVENT
DTSTART;TZID=America/Halifax:20170225T130000
DTEND;TZID=America/Halifax:20170225T190000
DTSTAMP:20260424T061337
CREATED:20170221T135145Z
LAST-MODIFIED:20170221T135145Z
UID:1984-1488027600-1488049200@max983.ca
SUMMARY:Pool for Parkinsons
DESCRIPTION:Pool for Parkinson  at Dooly’s in Glace Bay \nIncluded: Pool from 1-7 PM on FEb. 25th/2017 \nFree beverage\, Hot Dogs and Munchies and Free 1 hour pool Coupon \nTickets $20.00 \nContact : Mora  902-849-9871 \nRon    902-849-6857 \nHonorine  902-562-2967 \n
URL:https://max983.ca/event/pool-for-parkinsons/
END:VEVENT
BEGIN:VEVENT
DTSTART;TZID=America/Halifax:20170225T210000
DTEND;TZID=America/Halifax:20170225T210000
DTSTAMP:20260424T061337
CREATED:20170217T190557Z
LAST-MODIFIED:20170217T190557Z
UID:1972-1488056400-1488056400@max983.ca
SUMMARY:Dance/Silent Auction
DESCRIPTION:Cape Breton Expos are holding a dance/silent auction fundraiser on Saturday\, February 25 at the North Sydney Firehall.  All proceeds go directly to the team and team players for costs associated within the sport.  Tickets are $5 or they can be purchased at the door.  Auction will run from 9 – 11 PM with many door prizes drawn throughout the evening.  Dance 9 – 1 AM with Wayside Travellers.  Tickets in advance by calling 902-295-8822 \n
URL:https://max983.ca/event/dancesilent-auction/
END:VEVENT
END:VCALENDAR