BEGIN:VCALENDAR
VERSION:2.0
PRODID:-//Max 98.3 - ECPv4.6.26//NONSGML v1.0//EN
CALSCALE:GREGORIAN
METHOD:PUBLISH
X-WR-CALNAME:Max 98.3
X-ORIGINAL-URL:https://max983.ca
X-WR-CALDESC:Events for Max 98.3
BEGIN:VEVENT
DTSTART;TZID=America/Halifax:20170301T153000
DTEND;TZID=America/Halifax:20170301T163000
DTSTAMP:20260423T233335
CREATED:20170227T175257Z
LAST-MODIFIED:20170227T175257Z
UID:2006-1488382200-1488385800@max983.ca
SUMMARY:AfroDance
DESCRIPTION:\n\n\nDid you know that Africa has 5500 languages? Did you know that African Dance is alot like today’s dance culture? Would you like to learn how to play an African Drum? Mufaro from MCAD (Maritime Centre for African Dance) is returning to the Glace Bay Library on Wednesday\, March 1st 2017 from 330pm- 430pm for a 60 minute workshop on AfroDance. No registraton is necessary – just drop in.\n\n\n\n
URL:https://max983.ca/event/afrodance/
END:VEVENT
END:VCALENDAR