BEGIN:VCALENDAR
VERSION:2.0
PRODID:-//Max 98.3 - ECPv4.6.26//NONSGML v1.0//EN
CALSCALE:GREGORIAN
METHOD:PUBLISH
X-WR-CALNAME:Max 98.3
X-ORIGINAL-URL:https://max983.ca
X-WR-CALDESC:Events for Max 98.3
BEGIN:VEVENT
DTSTART;VALUE=DATE:20170303
DTEND;VALUE=DATE:20170304
DTSTAMP:20260423T201756
CREATED:20170216T205000Z
LAST-MODIFIED:20170216T205000Z
UID:1921-1488499200-1488585599@max983.ca
SUMMARY:The World Day of Prayer
DESCRIPTION:The World Day of Prayer this year will be held at Our Lady of Fatima Church in Sydney River on Mar. 3rd\, 2017 at two o’clock in the afternoon. It is hosted by the CWL of St. Marguerite Bourgeoys’ Parish.\nThe program is entitled “Am I Being Unfair to you and the service was written by the World Day of Prayer Committee of the Philippines. There will be refreshments following the service and everyone is welcome. \n
URL:https://max983.ca/event/the-world-day-of-prayer/
END:VEVENT
BEGIN:VEVENT
DTSTART;TZID=America/Halifax:20170303T190000
DTEND;TZID=America/Halifax:20170303T200000
DTSTAMP:20260423T201756
CREATED:20170217T191303Z
LAST-MODIFIED:20170217T191303Z
UID:1978-1488567600-1488571200@max983.ca
SUMMARY:World Day of Prayer
DESCRIPTION:WORLD DAY OF PRAYER \n“AM I BEING UNFAIR TO YOU?” On March 3\, 2017 Christians in more than 170 \ncountries and in 2000 communities across Canada \nwill gather to learn about\, pray and celebrate in \nsolidarity with the women of the Philippines \nthrough the World Day Of Prayer. \nHoly Family will host this event on Friday\, March 3rd\, 2017 at 7:00 pm. A collection will take place during this \nservice. Special guests will be in attendance \n
URL:https://max983.ca/event/world-day-of-prayer/
END:VEVENT
END:VCALENDAR