BEGIN:VCALENDAR
VERSION:2.0
PRODID:-//Max 98.3 - ECPv4.6.26//NONSGML v1.0//EN
CALSCALE:GREGORIAN
METHOD:PUBLISH
X-WR-CALNAME:Max 98.3
X-ORIGINAL-URL:https://max983.ca
X-WR-CALDESC:Events for Max 98.3
BEGIN:VEVENT
DTSTART;VALUE=DATE:20170306
DTEND;VALUE=DATE:20170307
DTSTAMP:20260423T152500
CREATED:20170228T194753Z
LAST-MODIFIED:20170228T194753Z
UID:2019-1488758400-1488844799@max983.ca
SUMMARY:Bowl/Billiards for Kids' Sake
DESCRIPTION:We are a proud supporter of Big Brothers\, Big Sisters \n \nMarch 6 Town Centre Glace Bay \nMarch 9 Strand Sydney Mines \nMarch 24 Dooly’s Sydney (Billiards and wii bowling) \nForm a team of 4 and call our hotline (902-564-5437) to book an hour of free fun. We will deliver your pledge sheet package to you. \n
URL:https://max983.ca/event/bowlbilliards-for-kids-sake/
END:VEVENT
BEGIN:VEVENT
DTSTART;TZID=America/Halifax:20170306T080000
DTEND;TZID=America/Halifax:20170306T170000
DTSTAMP:20260423T152500
CREATED:20170223T151322Z
LAST-MODIFIED:20170223T151322Z
UID:1999-1488787200-1488819600@max983.ca
SUMMARY:Big Brothers - Big Sisters Bowl/Billiards for Kids Sake
DESCRIPTION:Big Brothers Big Sisters of Cape Breton is hosting their annual Bowl Billiards for Kids Fun Event on the following dates. \nMarch 6        Town Centre Glace Bay \nForm a team of 4 and call our hotline (902-564-5437) to book an hour of free fun.  We will deliver your pledge sheet package to you. \n  \n
URL:https://max983.ca/event/big-brothers-big-sisters-bowlbilliards-for-kids-sake/
END:VEVENT
END:VCALENDAR