BEGIN:VCALENDAR
VERSION:2.0
PRODID:-//Max 98.3 - ECPv4.6.26//NONSGML v1.0//EN
CALSCALE:GREGORIAN
METHOD:PUBLISH
X-WR-CALNAME:Max 98.3
X-ORIGINAL-URL:https://max983.ca
X-WR-CALDESC:Events for Max 98.3
BEGIN:VEVENT
DTSTART;TZID=America/Halifax:20170309T080000
DTEND;TZID=America/Halifax:20170309T170000
DTSTAMP:20260421T105727
CREATED:20170223T151412Z
LAST-MODIFIED:20170223T151412Z
UID:2001-1489046400-1489078800@max983.ca
SUMMARY:Big Brothers - Big Sisters Bowl/Billiards for Kids Sake
DESCRIPTION:Big Brothers Big Sisters of Cape Breton is hosting their annual Bowl Billiards for Kids Fun Event on the following dates. \nMarch 9        Strand Sydney Mines \nForm a team of 4 and call our hotline (902-564-5437) to book an hour of free fun.  We will deliver your pledge sheet package to you. \n  \n
URL:https://max983.ca/event/big-brothers-big-sisters-bowlbilliards-for-kids-sake-2/
END:VEVENT
BEGIN:VEVENT
DTSTART;TZID=America/Halifax:20170309T140000
DTEND;TZID=America/Halifax:20170309T160000
DTSTAMP:20260421T105727
CREATED:20170223T131047Z
LAST-MODIFIED:20170223T131047Z
UID:1992-1489068000-1489075200@max983.ca
SUMMARY:CB Ostomy Support Group
DESCRIPTION:The Cape Breton Chapter of the Ostomy Canada Society will meet on Thursday March 9th\, 2017 from 2pm – 4pm at the Glace Bay Hospital\, Board Room\, Glace Bay. This is a support group for ostomates and their support/caregivers. New ostomates are welcome. \nA light lunch will be served. \nFor more information contact : Verna Petrie – 862-8540 \n
URL:https://max983.ca/event/cb-ostomy-support-group/
END:VEVENT
END:VCALENDAR