BEGIN:VCALENDAR
VERSION:2.0
PRODID:-//Max 98.3 - ECPv4.6.26//NONSGML v1.0//EN
CALSCALE:GREGORIAN
METHOD:PUBLISH
X-WR-CALNAME:Max 98.3
X-ORIGINAL-URL:https://max983.ca
X-WR-CALDESC:Events for Max 98.3
BEGIN:VEVENT
DTSTART;VALUE=DATE:20170310
DTEND;VALUE=DATE:20170311
DTSTAMP:20260421T091336
CREATED:20170216T205607Z
LAST-MODIFIED:20170216T205607Z
UID:1925-1489104000-1489190399@max983.ca
SUMMARY:Early St. Patrick’s Day  Concert
DESCRIPTION:EVANS AND DOHERTY  – Early St. Patrick’s Day  Concert on Friday\, March 10th at St. Andrew’s Presbyterian Church\, 643 Main Street\, Sydney Mines at 7 P.M. Tickets are $25 each and can be purchased at Shoppers Drug Mart in North Sydney and Pharmasave in Sydney Mines or by calling 902 736-2508 to reserve yours. \n
URL:https://max983.ca/event/early-st-patricks-day-concert/
END:VEVENT
BEGIN:VEVENT
DTSTART;TZID=America/Halifax:20170310T200000
DTEND;TZID=America/Halifax:20170310T235500
DTSTAMP:20260421T091336
CREATED:20170308T135308Z
LAST-MODIFIED:20170308T135308Z
UID:2039-1489176000-1489190100@max983.ca
SUMMARY:Pub Night Fundraiser
DESCRIPTION:Pub Night with live music Marion Bridge Rec. Centre and WPC proudly present: PUB NIGHT with Colin Grant\, Jason MacDonald\, Keith Mullins and Adam Young. Tickets at the door $15. 19+ CASH ONLY EVENT Enjoy Friday night with great musicians! The canteen will serve fingerfood\, chicken wings\, onion rings\, mozza sticks and more… When: Fri Mar 10\, 2017 8pm – 11:59pm Where: Marion Bridge Rec. Centre (attached to Fire Hall) 3921 Gabarus Hwy\, Marion-Bridge\, (902)727-3161 \n
URL:https://max983.ca/event/pub-night-fundraiser/
END:VEVENT
END:VCALENDAR