BEGIN:VCALENDAR
VERSION:2.0
PRODID:-//Max 98.3 - ECPv4.6.26//NONSGML v1.0//EN
CALSCALE:GREGORIAN
METHOD:PUBLISH
X-WR-CALNAME:Max 98.3
X-ORIGINAL-URL:https://max983.ca
X-WR-CALDESC:Events for Max 98.3
BEGIN:VEVENT
DTSTART;TZID=America/Halifax:20170313T090000
DTEND;TZID=America/Halifax:20170317T153000
DTSTAMP:20260421T010239
CREATED:20170308T140848Z
LAST-MODIFIED:20170308T140848Z
UID:2044-1489395600-1489764600@max983.ca
SUMMARY:Townhouse March Break Camp
DESCRIPTION:March Break Camp: A fun interactive week for children aged 4-9! Please bring your lunch and a nutritious snack and join us during March Break (March 13-17th) from 9:00 a.m. to 3:30 p.m. for a fun filled week of activities\, crafts\, and games. Cost is $90 for the week or $20 per day. Limited spaces available. Please come into Town House by Thursday\, March 9th to register and pay. \n
URL:https://max983.ca/event/townhouse-march-break-camp/
END:VEVENT
BEGIN:VEVENT
DTSTART;TZID=America/Halifax:20170315T120000
DTEND;TZID=America/Halifax:20170315T130000
DTSTAMP:20260421T010239
CREATED:20170310T192350Z
LAST-MODIFIED:20170310T192350Z
UID:2059-1489579200-1489582800@max983.ca
SUMMARY:Lenten Mid-Week Ecumenical Service
DESCRIPTION:Wednesday\, March 15th\, Holy Cross Catholic Church\, 230 Seaview Street\, Glace Bay\, NS at 12 PM \n
URL:https://max983.ca/event/lenten-mid-week-ecumenical-service/
END:VEVENT
BEGIN:VEVENT
DTSTART;TZID=America/Halifax:20170315T133000
DTEND;TZID=America/Halifax:20170315T153000
DTSTAMP:20260421T010239
CREATED:20170227T175526Z
LAST-MODIFIED:20170227T175526Z
UID:2010-1489584600-1489591800@max983.ca
SUMMARY:Living with Cancer Support Group
DESCRIPTION:Living With Cancer Support Group\, a support group for those who have had a diagnosis of cancer\, for their family\, caregivers will meet Wednesday\, March 15th\, 2017\, 1:30 pm – 3:30 pm at Royal Canadian Legion\, Branch 128 (Pier)\, Victoria Road. Facilitator- Tom McNeil\, CBCC Social Worker \n \n  \n  \n
URL:https://max983.ca/event/living-with-cancer-support-group-2/
END:VEVENT
END:VCALENDAR