BEGIN:VCALENDAR
VERSION:2.0
PRODID:-//Max 98.3 - ECPv4.6.26//NONSGML v1.0//EN
CALSCALE:GREGORIAN
METHOD:PUBLISH
X-WR-CALNAME:Max 98.3
X-ORIGINAL-URL:https://max983.ca
X-WR-CALDESC:Events for Max 98.3
BEGIN:VEVENT
DTSTART;TZID=America/Halifax:20170318T190000
DTEND;TZID=America/Halifax:20170318T220000
DTSTAMP:20260420T200420
CREATED:20170314T172337Z
LAST-MODIFIED:20170314T172337Z
UID:2117-1489863600-1489874400@max983.ca
SUMMARY:Schooner Fun Nights
DESCRIPTION:Curling – Pizza – Prizes \nThe Fun Starts at 7:00pm.  Open to Everyone 19 and older.  Saturday\, March 18th.  Schooner Curling Club\, 61 Military Road (Old Radar Base) 902-539-3992.   www.schoonercurlingclub.com \n
URL:https://max983.ca/event/schooner-fun-nights/
END:VEVENT
BEGIN:VEVENT
DTSTART;TZID=America/Halifax:20170318T193000
DTEND;TZID=America/Halifax:20170318T213000
DTSTAMP:20260420T200420
CREATED:20170303T194126Z
LAST-MODIFIED:20170303T194126Z
UID:2029-1489865400-1489872600@max983.ca
SUMMARY:St. Patrick's Evening of Fun
DESCRIPTION:Mira Seniors & Pensioners Centre\, Marion Bridge presents a St. Patrick’s Evening of Fun featuring “The Gillis Brothers” Saturday\, March 18\, 2017 from 730 PM – 930 PM.  Light Lunch Served.  Admission $10 at the door.  Everyone Welcome. \n
URL:https://max983.ca/event/st-patricks-evening-of-fun/
END:VEVENT
END:VCALENDAR