BEGIN:VCALENDAR
VERSION:2.0
PRODID:-//Max 98.3 - ECPv4.6.26//NONSGML v1.0//EN
CALSCALE:GREGORIAN
METHOD:PUBLISH
X-WR-CALNAME:Max 98.3
X-ORIGINAL-URL:https://max983.ca
X-WR-CALDESC:Events for Max 98.3
BEGIN:VEVENT
DTSTART;TZID=America/Halifax:20170611T120000
DTEND;TZID=America/Halifax:20170611T140000
DTSTAMP:20260419T204848
CREATED:20170530T183200Z
LAST-MODIFIED:20170530T183200Z
UID:2723-1497182400-1497189600@max983.ca
SUMMARY:Spring Luncheon
DESCRIPTION:The Boularderie Mammowarriors invite you to their Spring Luncheon! When: Sunday June 11\, noon to 2 pm Where: Boularderie School Choice of Ham Salad or Lentil Salad plate Rolls\, dessert\, and tea/coffee $9 at the door Bake table\, draws\, and fun! All for the Cape Breton Cancer Patient Care Fund! \n
URL:https://max983.ca/event/spring-luncheon/
END:VEVENT
BEGIN:VEVENT
DTSTART;TZID=America/Halifax:20170611T120000
DTEND;TZID=America/Halifax:20170611T140000
DTSTAMP:20260419T204848
CREATED:20170605T132712Z
LAST-MODIFIED:20170605T132712Z
UID:2741-1497182400-1497189600@max983.ca
SUMMARY:Spring Luncheon
DESCRIPTION:The Boularderie Mammowarriors invite you to their Spring Luncheon! When: Sunday June 11\, noon to 2 pm Where: Boularderie School Choice of Ham Salad or Lentil Salad plate Rolls\, dessert\, and tea/coffee $9 at the door Bake table\, draws\, and fun! All for the Cape Breton Cancer Patient Care Fund \n
URL:https://max983.ca/event/spring-luncheon-2/
END:VEVENT
BEGIN:VEVENT
DTSTART;TZID=America/Halifax:20170611T190000
DTEND;TZID=America/Halifax:20170611T220000
DTSTAMP:20260419T204848
CREATED:20170607T125027Z
LAST-MODIFIED:20170607T125027Z
UID:2775-1497207600-1497218400@max983.ca
SUMMARY:Summer Hymn Sing
DESCRIPTION:Bethel Presbyterian Church Choir is having their Summer Hymn Sing with special music by the Korean families from St. Paul’s Church\, Glace Bay on Sunday\, June 11\, 2017 at 7 p.m. at Bethel Church\, George Street\, Sydney \n
URL:https://max983.ca/event/summer-hymn-sing/
END:VEVENT
END:VCALENDAR