BEGIN:VCALENDAR
VERSION:2.0
PRODID:-//Max 98.3 - ECPv4.6.26//NONSGML v1.0//EN
CALSCALE:GREGORIAN
METHOD:PUBLISH
X-WR-CALNAME:Max 98.3
X-ORIGINAL-URL:https://max983.ca
X-WR-CALDESC:Events for Max 98.3
BEGIN:VEVENT
DTSTART;TZID=America/Halifax:20170615T110000
DTEND;TZID=America/Halifax:20170617T210000
DTSTAMP:20260420T013749
CREATED:20170314T132621Z
LAST-MODIFIED:20170314T162709Z
UID:2070-1497524400-1497733200@max983.ca
SUMMARY:Scotchtown Volunteer Fire Department
DESCRIPTION:Mayflower Mall \nSelling Tickets on a 420 CC Yard Machine Ride on Lawn Mower.  All locations 11 AM – 9 PM \n
URL:https://max983.ca/event/scotchtown-volunteer-fire-department-4/
END:VEVENT
BEGIN:VEVENT
DTSTART;TZID=America/Halifax:20170616T110000
DTEND;TZID=America/Halifax:20170616T180000
DTSTAMP:20260420T013749
CREATED:20170523T183650Z
LAST-MODIFIED:20170523T183650Z
UID:2681-1497610800-1497636000@max983.ca
SUMMARY:Ham and Salad Supper
DESCRIPTION:Ham and Salad Supper\, St. Paul’s Presbyterian Church\, Brookside Street\, Glace Bay \nFriday\, June 16th\, 2017\,   Eat In 4 PM – 6 PM\, Take out 11 AM – 1 PM & 4 PM – 6 PM \nTickets $11.  For Tickets phone 902-737-2529 \n
URL:https://max983.ca/event/ham-and-salad-supper-2/
END:VEVENT
END:VCALENDAR