BEGIN:VCALENDAR
VERSION:2.0
PRODID:-//Max 98.3 - ECPv4.6.26//NONSGML v1.0//EN
CALSCALE:GREGORIAN
METHOD:PUBLISH
X-WR-CALNAME:Max 98.3
X-ORIGINAL-URL:https://max983.ca
X-WR-CALDESC:Events for Max 98.3
BEGIN:VEVENT
DTSTART;TZID=America/Halifax:20170620T190000
DTEND;TZID=America/Halifax:20170620T210000
DTSTAMP:20260420T075906
CREATED:20170614T123051Z
LAST-MODIFIED:20170614T123051Z
UID:2807-1497985200-1497992400@max983.ca
SUMMARY:Town Hall Meeting
DESCRIPTION:A TOWN THAT CARES\, will be holding its next TOWN HALL MEETING at the GLACE BAY FIRE HALL\,on June 20 at 7 pm.  Discussing the drug and mental health problems we have in our communties. AND  Also the need for a MAJOR TREATMENT FACILITY that is needed in CAPE BRETON \n
URL:https://max983.ca/event/town-hall-meeting/
END:VEVENT
END:VCALENDAR