BEGIN:VCALENDAR
VERSION:2.0
PRODID:-//Max 98.3 - ECPv4.6.26//NONSGML v1.0//EN
CALSCALE:GREGORIAN
METHOD:PUBLISH
X-WR-CALNAME:Max 98.3
X-ORIGINAL-URL:https://max983.ca
X-WR-CALDESC:Events for Max 98.3
BEGIN:VEVENT
DTSTART;TZID=America/Halifax:20170621T123000
DTEND;TZID=America/Halifax:20170621T153000
DTSTAMP:20260420T092344
CREATED:20170605T133407Z
LAST-MODIFIED:20170605T133407Z
UID:2753-1498048200-1498059000@max983.ca
SUMMARY:Living with Cancer Support Group
DESCRIPTION:Living With Cancer Support Group\, a support group for those who have had a diagnosis of cancer\, for their family\, caregivers will meet Wednesday\, June 21st\, 2017\, 12:30 pm – 2:30 pm at Royal Canadian Legion\, Branch 128 (Pier)\, Victoria Road. Guest Speaker :  Brenda Baxendale\, Occupational Therapist\, Cape Breton Regional Hospital \nPOT LUCK LUNCH AT 12:30PM \n
URL:https://max983.ca/event/living-with-cancer-support-group-5/
END:VEVENT
END:VCALENDAR