BEGIN:VCALENDAR
VERSION:2.0
PRODID:-//Max 98.3 - ECPv4.6.26//NONSGML v1.0//EN
CALSCALE:GREGORIAN
METHOD:PUBLISH
X-WR-CALNAME:Max 98.3
X-ORIGINAL-URL:https://max983.ca
X-WR-CALDESC:Events for Max 98.3
BEGIN:VEVENT
DTSTART;TZID=America/Halifax:20170630T130000
DTEND;TZID=America/Halifax:20170702T210000
DTSTAMP:20260421T033027
CREATED:20170619T170941Z
LAST-MODIFIED:20170619T170941Z
UID:2835-1498827600-1499029200@max983.ca
SUMMARY:The Great Benjamin Circus
DESCRIPTION:The Great Benjamin Circus bigger and better …  Glace Bay June 27\, 28.. New Waterford June 29th\, Sydney July 30\, 1 and 2nd  ..  high wires\, clowns\, wheel of destiny the human cannonball and much much more… save with advanced tickets at http://www.benjaminscircus.com/ \n
URL:https://max983.ca/event/the-great-benjamin-circus-2/
END:VEVENT
END:VCALENDAR