BEGIN:VCALENDAR
VERSION:2.0
PRODID:-//Max 98.3 - ECPv4.6.26//NONSGML v1.0//EN
CALSCALE:GREGORIAN
METHOD:PUBLISH
X-WR-CALNAME:Max 98.3
X-ORIGINAL-URL:https://max983.ca
X-WR-CALDESC:Events for Max 98.3
BEGIN:VEVENT
DTSTART;TZID=America/Halifax:20170705T140000
DTEND;TZID=America/Halifax:20170709T230000
DTSTAMP:20260423T165431
CREATED:20170619T173222Z
LAST-MODIFIED:20170619T173222Z
UID:2837-1499263200-1499641200@max983.ca
SUMMARY:Lambert Todd Days
DESCRIPTION:Please visit our Facebook page:  @lamberttodddays \nMini Fireworks Display\, Activities for all ages\, Little Miss and Miss Lambert Todd Contest\, Paintball and Laser Tag\, Children’s Karaoke\, Magic Shows\, Pancake & Sausage Breakfast\, Junior Firefighters Competition\, Car & Bike Show & Shine.  Lots of entertainment for all ages. \n
URL:https://max983.ca/event/lambert-todd-days/
END:VEVENT
BEGIN:VEVENT
DTSTART;TZID=America/Halifax:20170708T120000
DTEND;TZID=America/Halifax:20170708T170000
DTSTAMP:20260423T165431
CREATED:20170627T182932Z
LAST-MODIFIED:20170627T182932Z
UID:2868-1499515200-1499533200@max983.ca
SUMMARY:Dungeons and Librarians at McConnell Library
DESCRIPTION:Dungeons & Librarians \nSaturday\, July 8th \nMcConnell Library \nTime (to be determined) \nCaperCon staff want to share their love of Dungeons & Dragons and tabletop gaming with you! \nThis event is free and open to all ages with puzzles and challenges designed for 12 and older. A number of tables at the library\, will be staffed with 2 CaperCon volunteers\, one in the role of dungeon master and one in costume\, playing a role in that table’s storyline… what they need next on Saturday\, July 8 is a brave group of adventurers! \nDungeons & Dragons is a great way to learn social skills\, practice problem solving\, meet interesting people and have a whole lot of fun! CaperCon staff will be putting together amazing stories for groups to participate in over the course of a fun-filled library visit! Times to be determined. \nDon’t miss your chance! Seating is limited. For more info. and to register go to :                                                                                                                                                                                                                https://marcatoapp.com/forms/capercon/dungeons-and-librarians/new \n
URL:https://max983.ca/event/dungeons-and-librarians-at-mcconnell-library/
END:VEVENT
BEGIN:VEVENT
DTSTART;TZID=America/Halifax:20170708T190000
DTEND;TZID=America/Halifax:20170708T220000
DTSTAMP:20260423T165431
CREATED:20170629T142727Z
LAST-MODIFIED:20170629T142727Z
UID:2896-1499540400-1499551200@max983.ca
SUMMARY:Fundraising Auction
DESCRIPTION:Fundraising Auction on Saturday\, July 8th from 7 PM – 9 PM at the Donkin Fire Hall.  Music to follow.  Hosted by Alfie MacLeod (Auctioneer).  All monies raised will go to two families who lost their homes due to fire. \n
URL:https://max983.ca/event/fundraising-auction/
END:VEVENT
END:VCALENDAR