BEGIN:VCALENDAR
VERSION:2.0
PRODID:-//Max 98.3 - ECPv4.6.26//NONSGML v1.0//EN
CALSCALE:GREGORIAN
METHOD:PUBLISH
X-WR-CALNAME:Max 98.3
X-ORIGINAL-URL:https://max983.ca
X-WR-CALDESC:Events for Max 98.3
BEGIN:VEVENT
DTSTART;TZID=America/Halifax:20170710T093000
DTEND;TZID=America/Halifax:20170714T120000
DTSTAMP:20260424T030724
CREATED:20170602T133621Z
LAST-MODIFIED:20170602T133621Z
UID:2734-1499679000-1500033600@max983.ca
SUMMARY:Children's Summer Program
DESCRIPTION:Children’s Summer Program at St. Andrew’s Presbyterian Church\, Sydney Mines (643 Main Street) This year’s theme is HERO’S July 10-14\, 2017 9:30 am to 12:00 noon For all children Ages 4 years through Grade 6 Program includes daily Bible story and theme\, music\, puppet shows\, games\, crafts and daily snacks. Registration is FREE and begins Monday\, July 10th at 9:00 am For more information or to pre-register call Rev. Marion at 902-241-2310 \n
URL:https://max983.ca/event/childrens-summer-program/
END:VEVENT
BEGIN:VEVENT
DTSTART;TZID=America/Halifax:20170714T160000
DTEND;TZID=America/Halifax:20170714T183000
DTSTAMP:20260424T030724
CREATED:20170705T174105Z
LAST-MODIFIED:20170705T174105Z
UID:2911-1500048000-1500057000@max983.ca
SUMMARY:Mira Seniors and Pensioners Centre Market
DESCRIPTION:Mira Seniors and Pensioners Centre Market on Friday\, July 14th from 4 PM – 630 PM.  Free Admission\, Bake Sale and Many vendors. \n
URL:https://max983.ca/event/mira-seniors-and-pensioners-centre-market/
END:VEVENT
END:VCALENDAR