BEGIN:VCALENDAR
VERSION:2.0
PRODID:-//Max 98.3 - ECPv4.6.26//NONSGML v1.0//EN
CALSCALE:GREGORIAN
METHOD:PUBLISH
X-WR-CALNAME:Max 98.3
X-ORIGINAL-URL:https://max983.ca
X-WR-CALDESC:Events for Max 98.3
BEGIN:VEVENT
DTSTART;TZID=America/Halifax:20170715T080000
DTEND;TZID=America/Halifax:20170715T120000
DTSTAMP:20260424T044558
CREATED:20170712T131636Z
LAST-MODIFIED:20170712T131636Z
UID:2956-1500105600-1500120000@max983.ca
SUMMARY:Undercurrent Youth Centre Flea Market
DESCRIPTION:Flea Market & Car Detailing in support of Undercurrent Youth Centre. Everything happens at Undercurrent in Glace Bay. 224 York Street from 8:00am – 12:00pm July 15th. Get your car cleaned while you shop! Detailing is $20 per car. $2.00 admission to the flea market. See you there! \n
URL:https://max983.ca/event/undercurrent-youth-centre-flea-market/
END:VEVENT
BEGIN:VEVENT
DTSTART;TZID=America/Halifax:20170715T100000
DTEND;TZID=America/Halifax:20170715T140000
DTSTAMP:20260424T044558
CREATED:20170712T131532Z
LAST-MODIFIED:20170712T131532Z
UID:2954-1500112800-1500127200@max983.ca
SUMMARY:Community C.A.R.E.S Giant Yard Sale
DESCRIPTION:COMMUNITY C.A.R.E.S. YOUTH OUTREACH IS HOSTING A \nGiant Yard Sale \nJubilee School Parking Lot Main St. Sydney Mines \nSat. July 15th \n10:00 AM – 2:00 PM \nTable Rentals $10.00 \nTo Reserve A Table Call Eileen 902-371-0101 or \nEmail futureccyohub@live.com \n
URL:https://max983.ca/event/community-c-a-r-e-s-giant-yard-sale/
END:VEVENT
BEGIN:VEVENT
DTSTART;TZID=America/Halifax:20170715T140000
DTEND;TZID=America/Halifax:20170715T210000
DTSTAMP:20260424T044558
CREATED:20170712T130613Z
LAST-MODIFIED:20170712T130613Z
UID:2943-1500127200-1500152400@max983.ca
SUMMARY:Open Camp Day
DESCRIPTION:Cape Breton Bible Camp 50 Year Celebration 1967 – 2017.  Open Camp July 15th\, 2017.  Activities starting at 2:30 pm\, Games\, Boat\, Canoes\, Pool\, Waterslide.  Food:  530 PM – 6:30 PM Snacks\, Catered Supper (BBQ for the Kids).  Outdoor Concert & Ceremony at 7:30 PM featuring ECMA Award Winners “Roots Down Deep\,” Kim Butler & Leanne Williston\, Pierre & Friends\, and Eric Whyte \n
URL:https://max983.ca/event/open-camp-day/
END:VEVENT
END:VCALENDAR