BEGIN:VCALENDAR
VERSION:2.0
PRODID:-//Max 98.3 - ECPv4.6.26//NONSGML v1.0//EN
CALSCALE:GREGORIAN
METHOD:PUBLISH
X-WR-CALNAME:Max 98.3
X-ORIGINAL-URL:https://max983.ca
X-WR-CALDESC:Events for Max 98.3
BEGIN:VEVENT
DTSTART;TZID=America/Halifax:20170717T140000
DTEND;TZID=America/Halifax:20170721T200000
DTSTAMP:20260424T105916
CREATED:20170712T131301Z
LAST-MODIFIED:20170712T131301Z
UID:2950-1500300000-1500667200@max983.ca
SUMMARY:MacGillivray Guest Home 50 Anniversary Celebrations
DESCRIPTION:MacGillivray Guest Home will be celebrating their 50th Anniversary July 17th-21st with week long events planned! July 17th 2pm Open House July 18th 2pm Outdoor Mass July 19th 6:30pm Family Picnic July 20th 2:00pm Strawberry Festival with Donnie Campbell & Jinx O’Neil July 21st 2pm Ecumenical Service with Mira Presbyterian Church July 21st 6pm-8pm Staff Reunion with Entertainment By Jenn Shepperd\, Stephen Muise & LJ MacLean \n
URL:https://max983.ca/event/macgillivray-guest-home-50-anniversary-celebrations/
END:VEVENT
BEGIN:VEVENT
DTSTART;TZID=America/Halifax:20170719T133000
DTEND;TZID=America/Halifax:20170719T153000
DTSTAMP:20260424T105916
CREATED:20170707T182234Z
LAST-MODIFIED:20170707T182234Z
UID:2926-1500471000-1500478200@max983.ca
SUMMARY:Living with Cancer Support Group
DESCRIPTION:Living With Cancer Support Group\, a support group for those who have had a diagnosis of cancer\, for their family\, caregivers will meet Wednesday\, July 19th\, 2017\, 1:30 pm – 3:30 pm at Royal Canadian Legion\, Branch 128 (Pier)\, Victoria Road \n
URL:https://max983.ca/event/living-with-cancer-support-group-6/
END:VEVENT
BEGIN:VEVENT
DTSTART;TZID=America/Halifax:20170719T163000
DTEND;TZID=America/Halifax:20170719T183000
DTSTAMP:20260424T105916
CREATED:20170705T122034Z
LAST-MODIFIED:20170705T122034Z
UID:2908-1500481800-1500489000@max983.ca
SUMMARY:Strawberry Tea and Sale
DESCRIPTION:Strawberry Tea and Sale St. John’s United Church\, Big Bras d’Or Wednesday\, July 19\, 4:30-6:30 p.m. Adults: $10.00 Children: $5.00 Eat In or Take Out \n
URL:https://max983.ca/event/strawberry-tea-and-sale/
END:VEVENT
BEGIN:VEVENT
DTSTART;TZID=America/Halifax:20170719T190000
DTEND;TZID=America/Halifax:20170719T203000
DTSTAMP:20260424T105916
CREATED:20170712T130858Z
LAST-MODIFIED:20170712T130953Z
UID:2945-1500490800-1500496200@max983.ca
SUMMARY:Under the Rainbow Umbrella Conversations with Madonna Doucette
DESCRIPTION:Under the Rainbow Umbrella Conversations with Madonna Doucette \nfrom The Youth Project \nMcConnell Library (50 Falmouth Street\, Sydney) \nWed. July 19            7-8:30 pm \nLGBTQQIAAP2S • How to talk to your child about Sexuality and Gender Variance                      \nAn introductory discussion on the variety of sexual orientations and gender identities and how to have an open and honest conversation about diversity with your child at any age. Everyone welcome. \n  \n
URL:https://max983.ca/event/2945/
END:VEVENT
END:VCALENDAR