BEGIN:VCALENDAR
VERSION:2.0
PRODID:-//Max 98.3 - ECPv4.6.26//NONSGML v1.0//EN
CALSCALE:GREGORIAN
METHOD:PUBLISH
X-WR-CALNAME:Max 98.3
X-ORIGINAL-URL:https://max983.ca
X-WR-CALDESC:Events for Max 98.3
BEGIN:VEVENT
DTSTART;TZID=America/Halifax:20170717T140000
DTEND;TZID=America/Halifax:20170721T200000
DTSTAMP:20260424T141430
CREATED:20170712T131301Z
LAST-MODIFIED:20170712T131301Z
UID:2950-1500300000-1500667200@max983.ca
SUMMARY:MacGillivray Guest Home 50 Anniversary Celebrations
DESCRIPTION:MacGillivray Guest Home will be celebrating their 50th Anniversary July 17th-21st with week long events planned! July 17th 2pm Open House July 18th 2pm Outdoor Mass July 19th 6:30pm Family Picnic July 20th 2:00pm Strawberry Festival with Donnie Campbell & Jinx O’Neil July 21st 2pm Ecumenical Service with Mira Presbyterian Church July 21st 6pm-8pm Staff Reunion with Entertainment By Jenn Shepperd\, Stephen Muise & LJ MacLean \n
URL:https://max983.ca/event/macgillivray-guest-home-50-anniversary-celebrations/
END:VEVENT
BEGIN:VEVENT
DTSTART;TZID=America/Halifax:20170721T080000
DTEND;TZID=America/Halifax:20170723T170000
DTSTAMP:20260424T141430
CREATED:20170621T134616Z
LAST-MODIFIED:20170621T134616Z
UID:2848-1500624000-1500829200@max983.ca
SUMMARY:Cape Breton Drag Racing
DESCRIPTION:Cape Breton Drag Racing 1/8 Mile Racing 2017 at Victoria Junction off Sydney-Glace Bay Highway.  Race Dates:  June 25 & 25\, July 21\, 22 & 23\, Aug 12 Sport compact\, Aug 25\, 26 & 27 and Sept 16 & 17.  Gates Open 8 AM. \nSaturday Pass $10\, Sunday Pass $15\, Weekend Pass $20.  Family Weekend Pass $40 (2 adults and 2 under 14)\, 8 and under free when with Adult \n
URL:https://max983.ca/event/cape-breton-drag-racing-2/
END:VEVENT
BEGIN:VEVENT
DTSTART;TZID=America/Halifax:20170721T120000
DTEND;TZID=America/Halifax:20170721T170000
DTSTAMP:20260424T141430
CREATED:20170616T184219Z
LAST-MODIFIED:20170616T184219Z
UID:2824-1500638400-1500656400@max983.ca
SUMMARY:Garden Party Celebration
DESCRIPTION:You are cordially invited to attend Breton Abilities Centre’s 5th Annual Garden Party Celebration on July 21st from 12 pm – 5 pm at Breton Ability Centre\, 1300 King’s Road\, Sydney River. \nAll proceeds go to the Charitable Foundation. \n
URL:https://max983.ca/event/garden-party-celebration/
END:VEVENT
END:VCALENDAR