BEGIN:VCALENDAR
VERSION:2.0
PRODID:-//Max 98.3 - ECPv4.6.26//NONSGML v1.0//EN
CALSCALE:GREGORIAN
METHOD:PUBLISH
X-WR-CALNAME:Max 98.3
X-ORIGINAL-URL:https://max983.ca
X-WR-CALDESC:Events for Max 98.3
BEGIN:VEVENT
DTSTART;VALUE=DATE:20170804
DTEND;VALUE=DATE:20170808
DTSTAMP:20260425T101633
CREATED:20170412T172304Z
LAST-MODIFIED:20170412T172304Z
UID:2321-1501804800-1502150399@max983.ca
SUMMARY:Cape Breton Bike Rally
DESCRIPTION:MAX98.3fm presents: \nCape Breton Bike Rally \nAugust 4-7\, Membertou\, NS \nConquer the Cabot Trail\, storm The Fortress Louisbourg\, cruise the Bras D’or Lakes \nFurther info and registration \n  \n
URL:https://max983.ca/event/cape-breton-bike-rally/
ATTACH;FMTTYPE=image/png:https://max983.ca/wp-content/uploads/sites/24/2017/04/BIKERALLY.png
END:VEVENT
BEGIN:VEVENT
DTSTART;TZID=America/Halifax:20170807T180000
DTEND;TZID=America/Halifax:20170807T220000
DTSTAMP:20260425T101633
CREATED:20170717T182817Z
LAST-MODIFIED:20170717T182817Z
UID:2984-1502128800-1502143200@max983.ca
SUMMARY:St. Andrew's Presbyterian Church Concert
DESCRIPTION:The Barra’s will be performing on Monday\, August 7th at St. Andrew’s Presbyterian Church in Sydney Mines (643 Main Street) @ 7:00 p.m. and door will open at 6 p.m\, tickets are $30 each and can be purchased at Shopper’s Drug Mart in North Sydney at the Post Office outlet or at Sexton’s Pharmasave in Sydney Mines at the pharmacy counter. Also\, you can reserve your tickets by calling 902-736-2508 or emailing f.johnston@bellaliant.net \n
URL:https://max983.ca/event/st-andrews-presbyterian-church-concert-2/
END:VEVENT
BEGIN:VEVENT
DTSTART;TZID=America/Halifax:20170807T190000
DTEND;TZID=America/Halifax:20170807T220000
DTSTAMP:20260425T101633
CREATED:20170609T134752Z
LAST-MODIFIED:20170609T134752Z
UID:2783-1502132400-1502143200@max983.ca
SUMMARY:St. Andrew's Presbyterian Church Concert
DESCRIPTION:The Barra’s are back again this year to perform another fantastic concert in Sydney Mines at St. Andrew’s Presbyterian Church (643 Main Street) on Monday\, August 7th\, at 7:00 p.m. Last year’s concerts were sold out so get your tickets early. If you are planning a vacation to Cape Breton this is the concert to take in\, you won’t be disappointed. Tickets are $30 each and will be available soon at Shoppers Drug Mart in North Sydney or Pharmasave in Sydney Mines or you can reserve your tickets by emailing f.johnston@bellaliant.net \n
URL:https://max983.ca/event/st-andrews-presbyterian-church-concert/
END:VEVENT
END:VCALENDAR