BEGIN:VCALENDAR
VERSION:2.0
PRODID:-//Max 98.3 - ECPv4.6.26//NONSGML v1.0//EN
CALSCALE:GREGORIAN
METHOD:PUBLISH
X-WR-CALNAME:Max 98.3
X-ORIGINAL-URL:https://max983.ca
X-WR-CALDESC:Events for Max 98.3
BEGIN:VEVENT
DTSTART;TZID=America/Halifax:20170814T090000
DTEND;TZID=America/Halifax:20170818T120000
DTSTAMP:20260424T171953
CREATED:20170801T174059Z
LAST-MODIFIED:20170801T174059Z
UID:3050-1502701200-1503057600@max983.ca
SUMMARY:Bible School
DESCRIPTION:Agents In Action Vacation Bible School \nGrace Fellowship Church\, 3 Meadowbrook Dr.\, Sydney Mines\, N.S. \nMonday – Friday\, August 14-18\, 2017\, 9 a.m. – 12 Noon each day \nCome and enjoy Music\, Bible Exploration\, Crafts\, Games\, Snacks\, and on Friday a Hot Dog Barbeque. \nFor more information call Pastor Rick Barnes at 736-0262 or Sharon Barnes at 736-9499. \nSee you at VBS! \n  \n
URL:https://max983.ca/event/bible-school/
END:VEVENT
BEGIN:VEVENT
DTSTART;TZID=America/Halifax:20170817T190000
DTEND;TZID=America/Halifax:20170817T210000
DTSTAMP:20260424T171953
CREATED:20170627T183507Z
LAST-MODIFIED:20170627T183507Z
UID:2884-1502996400-1503003600@max983.ca
SUMMARY:Ghosts and Legends Walk
DESCRIPTION:The Old Sydney Society Ghost and Legends Walk of the Historic North End Sydney will be held every Thursday night throughout the summer\, starting June 29th. Join us for a spine tingling ninety-minute encounter with the city’s restless spirit world. Our tours begin at Historic St. Patrick’s Church Museum (87 Esplanade) at 7:00 PM and ends with a piping hot cup of tea and scones. $13 per person. Group rates and private tours are available. Reservations are required and can be made by phoning 902-539-1572. \n
URL:https://max983.ca/event/ghosts-and-legends-walk-7/
END:VEVENT
END:VCALENDAR