BEGIN:VCALENDAR
VERSION:2.0
PRODID:-//Max 98.3 - ECPv4.6.26//NONSGML v1.0//EN
CALSCALE:GREGORIAN
METHOD:PUBLISH
X-WR-CALNAME:Max 98.3
X-ORIGINAL-URL:https://max983.ca
X-WR-CALDESC:Events for Max 98.3
BEGIN:VEVENT
DTSTART;VALUE=DATE:20170819
DTEND;VALUE=DATE:20170820
DTSTAMP:20260424T141343
CREATED:20170619T030053Z
LAST-MODIFIED:20170721T180919Z
UID:2811-1503100800-1503187199@max983.ca
SUMMARY:Louisburg Shark Derby
DESCRIPTION:  The 6th annual Mako My Day Louisburg Shark Derby is Saturday August 19th on the wharf in Louisbourg \n  \n\nRegistration in person at Mullins Shell Albert Bridge\nNo experience necessary\, all equipment provided with a banquet and dance\n\n\nGo online for more information at sharkderby.com\n\n
URL:https://max983.ca/event/louisburg-shark-derby/
ATTACH;FMTTYPE=image/png:https://max983.ca/wp-content/uploads/sites/24/2017/06/SharkDerby.png
END:VEVENT
BEGIN:VEVENT
DTSTART;TZID=America/Halifax:20170819T140000
DTEND;TZID=America/Halifax:20170819T160000
DTSTAMP:20260424T141343
CREATED:20170727T180049Z
LAST-MODIFIED:20170727T180049Z
UID:3019-1503151200-1503158400@max983.ca
SUMMARY:Blueberry Festival
DESCRIPTION:Blueberry Festival in the Mira Seniors’ and Pensioners’ Center\, Marion Bridge.  Sandwiches plus your choice of Blueberry Dessert\, Coffee or Tea.  Saturday\, August 19\, 2017 from 2 PM – 4 PM.  Adults $10\, $4 for Children under 12. \n
URL:https://max983.ca/event/blueberry-festival/
END:VEVENT
END:VCALENDAR