BEGIN:VCALENDAR
VERSION:2.0
PRODID:-//Max 98.3 - ECPv4.6.26//NONSGML v1.0//EN
CALSCALE:GREGORIAN
METHOD:PUBLISH
X-WR-CALNAME:Max 98.3
X-ORIGINAL-URL:https://max983.ca
X-WR-CALDESC:Events for Max 98.3
BEGIN:VEVENT
DTSTART;TZID=America/Halifax:20170823T183000
DTEND;TZID=America/Halifax:20170823T200000
DTSTAMP:20260424T073549
CREATED:20170809T184055Z
LAST-MODIFIED:20170809T184055Z
UID:3067-1503513000-1503518400@max983.ca
SUMMARY:Enchanted Woods a Storytelling Walk
DESCRIPTION:‘Enchanted Woods’ A Storytelling Walk \nWednesday\, August 23rd \n6:30 PM\, Baille Ard Trail \nMeet at Terrace St. entrance – near Sherwood Park Jr. High \nAccompany the Cape Breton Regional Library’s Storyteller-in-Residence Ronald Labelle for an evening story and walk.\nParticipants will listen to a folktale of old while walking along the bubbling brooks and beautiful trails of Baille Ard. \n  \nEveryone welcome.  Dress for weather and walking. \n
URL:https://max983.ca/event/enchanted-woods-a-storytelling-walk/
END:VEVENT
END:VCALENDAR