BEGIN:VCALENDAR
VERSION:2.0
PRODID:-//Max 98.3 - ECPv4.6.26//NONSGML v1.0//EN
CALSCALE:GREGORIAN
METHOD:PUBLISH
X-WR-CALNAME:Max 98.3
X-ORIGINAL-URL:https://max983.ca
X-WR-CALDESC:Events for Max 98.3
BEGIN:VEVENT
DTSTART;TZID=America/Halifax:20170825T080000
DTEND;TZID=America/Halifax:20170827T170000
DTSTAMP:20260424T025419
CREATED:20170621T134737Z
LAST-MODIFIED:20170621T134737Z
UID:2852-1503648000-1503853200@max983.ca
SUMMARY:Cape Breton Drag Racing
DESCRIPTION:Cape Breton Drag Racing 1/8 Mile Racing 2017 at Victoria Junction off Sydney-Glace Bay Highway.  Race Dates:  June 25 & 25\, July 21\, 22 & 23\, Aug 12 Sport compact\, Aug 25\, 26 & 27 and Sept 16 & 17.  Gates Open 8 AM. \nSaturday Pass $10\, Sunday Pass $15\, Weekend Pass $20.  Family Weekend Pass $40 (2 adults and 2 under 14)\, 8 and under free when with Adult \n
URL:https://max983.ca/event/cape-breton-drag-racing-4/
END:VEVENT
BEGIN:VEVENT
DTSTART;TZID=America/Halifax:20170825T080000
DTEND;TZID=America/Halifax:20170827T170000
DTSTAMP:20260424T025419
CREATED:20170818T183510Z
LAST-MODIFIED:20170818T183510Z
UID:3087-1503648000-1503853200@max983.ca
SUMMARY:New Waterford Minor Baseball
DESCRIPTION:New Waterford Minor Baseball will be hosting 18U Midget A Provincials and 11U Mosquito B Provincials on Friday August 25th through Sunday August 26th. \n Great Baseball Action including the 15 top teams from across the province. \n  \n  \n
URL:https://max983.ca/event/new-waterford-minor-baseball/
END:VEVENT
BEGIN:VEVENT
DTSTART;TZID=America/Halifax:20170825T210000
DTEND;TZID=America/Halifax:20170827T170000
DTSTAMP:20260424T025419
CREATED:20170725T165959Z
LAST-MODIFIED:20170725T165959Z
UID:3004-1503694800-1503853200@max983.ca
SUMMARY:August Fest
DESCRIPTION:Members of the Tower Road Fire Dept on Tower Road Glace bay are holding our annual August Fest on the 25 till 27. On the 25 is Karoke and dance 9 till 1 am. On the 26th Saturday is washer toss $40.00 per team of 4starts at 1 pm then steak and stein 7-9 pm $ 15\,00 per person followed by a dance.And on Sunday the 27th is kids day starts at 1 pm. Everyone welcome. Any question call the hall at 902-849-1555 \n
URL:https://max983.ca/event/august-fest/
END:VEVENT
BEGIN:VEVENT
DTSTART;TZID=America/Halifax:20170826T110000
DTEND;TZID=America/Halifax:20170826T140000
DTSTAMP:20260424T025419
CREATED:20170818T183700Z
LAST-MODIFIED:20170818T183700Z
UID:3089-1503745200-1503756000@max983.ca
SUMMARY:The Great TransCanada Trail Celebration
DESCRIPTION:Ben Eoin Yacht Club\, 4950 East Bay Hwy\, is hosting a celebration of the Grand Opening of the Great Trans Canada Trail\, in conjunction with Canada’s 150th anniversary. This will be FREE fun for the whole family! A multicultural celebration with Ribbon cutting ceremony\, BBQ\, games\, and live musical etertainment. All paddlers are encouraged to come and check out our new water route destination site. Come by water or by land\, everyone is Welcome!! \n
URL:https://max983.ca/event/the-great-transcanada-trail-celebration/
END:VEVENT
END:VCALENDAR