BEGIN:VCALENDAR
VERSION:2.0
PRODID:-//Max 98.3 - ECPv4.6.26//NONSGML v1.0//EN
CALSCALE:GREGORIAN
METHOD:PUBLISH
X-WR-CALNAME:Max 98.3
X-ORIGINAL-URL:https://max983.ca
X-WR-CALDESC:Events for Max 98.3
BEGIN:VEVENT
DTSTART;TZID=America/Halifax:20170909T090000
DTEND;TZID=America/Halifax:20170909T130000
DTSTAMP:20260421T030230
CREATED:20170727T180552Z
LAST-MODIFIED:20170727T180552Z
UID:3025-1504947600-1504962000@max983.ca
SUMMARY:Christmas Island Community Fair
DESCRIPTION:Saturday September 9 Christmas Island Community Fair from 9a.m. to 1p.m. – car show\, bake sale\, flea market\, 50/50 draws. Hot dogs and delicious chili for sale. Located at the Christmas Island Fire Hall \n
URL:https://max983.ca/event/christmas-island-community-fair/
END:VEVENT
BEGIN:VEVENT
DTSTART;TZID=America/Halifax:20170909T120000
DTEND;TZID=America/Halifax:20170909T170000
DTSTAMP:20260421T030230
CREATED:20170906T174232Z
LAST-MODIFIED:20170906T174232Z
UID:3146-1504958400-1504976400@max983.ca
SUMMARY:Washer Toss Tournament
DESCRIPTION:Team Roach and the Sydney Curling Club are hosting a washer toss tournament on September 9th\, 2017 beginning at 12 noon at the club! Tickets are $10 each which allows you to participate in the tournament. Please be at the Curling Club prior to 11:45am to register if you wish to play. A fundraiser barbecue for Team Roach will also be taking place during the tournament. Hots dogs will be $2 each and pop/water for $1 each. Bar services will also be available. For tickets or more information\, please contact Kurt Roach\, Mark MacNamara\, Travis Stone or Robin Nathanson. You can also call the club at (902) 539-4012. \n
URL:https://max983.ca/event/washer-toss-tournament/
END:VEVENT
BEGIN:VEVENT
DTSTART;TZID=America/Halifax:20170909T160000
DTEND;TZID=America/Halifax:20170909T190000
DTSTAMP:20260421T030230
CREATED:20170829T173323Z
LAST-MODIFIED:20170829T173323Z
UID:3113-1504972800-1504983600@max983.ca
SUMMARY:Cantley Village Rocks
DESCRIPTION:Event: Cantley Village Rocks  \nDate: Saturday\, September 9 \nTime: 4-7PM \nLocation: Cantley Village Park\, McKinley & Doyle Avenue in Coxheath \nDescription: The Cantley Village Recreation Association presents its second-annual Cantley Village Rocks concert in Cantley Village Park. All are welcome. This is a FREE community concert featuring live music from The MacLellan Brothers Band. The concert will run from 4 to 7 p.m.! Entry for all is free. There will be hot dogs\, beverages\, treats and 50/50 tickets for sale\, with all proceeds going to the Cantley Village Park revitalization project. For more details\, visit Facebook.com/CantleyVillagePark \n  \n
URL:https://max983.ca/event/cantley-village-rocks/
END:VEVENT
END:VCALENDAR