BEGIN:VCALENDAR
VERSION:2.0
PRODID:-//Max 98.3 - ECPv4.6.26//NONSGML v1.0//EN
CALSCALE:GREGORIAN
METHOD:PUBLISH
X-WR-CALNAME:Max 98.3
X-ORIGINAL-URL:https://max983.ca
X-WR-CALDESC:Events for Max 98.3
BEGIN:VEVENT
DTSTART;VALUE=DATE:20170918
DTEND;VALUE=DATE:20170919
DTSTAMP:20260420T122233
CREATED:20170504T193953Z
LAST-MODIFIED:20170505T135129Z
UID:2543-1505692800-1505779199@max983.ca
SUMMARY:Chris de Burgh at Centre 200!
DESCRIPTION:94.9 The Cape is pleased to present Chris de Burgh on September 18th at Centre 200! \n \nMontreal\, February 2\, 2017 – Chris de Burgh comes to Sydney on Monday\, September 18 at Centre 200 for a night of his greatest hits and live cuts from his brand new album\, A Better World. \nThe A Better World Canadian Tour will stop in 16 Canadian cities starting in St. John’s and ending in Calgary. Fans can expect to hear a selection of some of Chris de Burgh’s greatest hit songs from an international career that spans over 30 years as well as some selections from his latest album\, including the single “Bethlehem”\, which is a great reminder of what a great rocker he is at heart. \nDe Burgh has always had a very special relationship with Canada as he explains\, “It was one of the first countries that really embraced my music\, and the atmosphere of playing there is just electrifying. My music goes back a very long way there … the beautiful\, wide open nation – and its wonderful people.” \nIn June 2016\, De Burgh’s most iconic single “The Lady in Red\,” celebrated its 30th anniversary. A fan favourite\, to this day it remains one of the most played songs on the planet and reached the #1 position in 47 countries. Out of his repertoire of more than 280 songs\, De Burgh’s other classic songs are staples on the radio: “Don’t Pay the Ferryman”\, “Spanish Train”\, “Patricia the Stripper”\, \n“High on Emotion” and”A Spaceman Came Traveling” speak to a generation of music lovers\, who have rewarded him with sales of 50 million albums and sold-out performances worldwide. \nA Better World\, available in stores and on iTunes\, reflects several themes: love\, war and adventure\, travel\, discovery\, and home-coming. It deals with the past\, present\, and the future in a combination of different styles\, tempos\, and instrumentation. Always in tune with global and political issues\, Chris de Burgh provides much food for thought in the lyrical content of his new album. \nSydney – Monday\, September 18\, 2017 – Centre 200 \nTickets starting at $59.50 \nTaxes included (+ applicable service charge) \nAvailable online tickets.capebreton.ca \nOn sale February 10 at 12:00 pm \n
URL:https://max983.ca/event/chris-de-burgh-at-centre-200/
ATTACH;FMTTYPE=image/jpeg:https://max983.ca/wp-content/uploads/sites/24/2017/05/CDEB_TwitterGeneric_MothersDay43.jpg
END:VEVENT
END:VCALENDAR