BEGIN:VCALENDAR
VERSION:2.0
PRODID:-//Max 98.3 - ECPv4.6.26//NONSGML v1.0//EN
CALSCALE:GREGORIAN
METHOD:PUBLISH
X-WR-CALNAME:Max 98.3
X-ORIGINAL-URL:https://max983.ca
X-WR-CALDESC:Events for Max 98.3
BEGIN:VEVENT
DTSTART;VALUE=DATE:20170921
DTEND;VALUE=DATE:20170924
DTSTAMP:20260420T025842
CREATED:20170912T161039Z
LAST-MODIFIED:20170912T161039Z
UID:3183-1505952000-1506211199@max983.ca
SUMMARY:Lumière
DESCRIPTION:Sept. 21-23 | Sydney\, NS \nAbout Lumière \nLumière is a free\, three-day arts festival culminating in a spectacular art-at-night event that lights up Sydney’s civic spaces with contemporary art\, culture and community spirit. Working with artists from Cape Breton and beyond\, Lumière presents innovative projects in a unique format that transforms everyday spaces into extraordinary venues for the arts. \nPublic programming events\, including artist talks\, workshops and film screenings will take place September 21\, 22 + 23rd\, 2017. The signature art-at-night event will be held from 7:00PM to midnight\, Saturday September 23rd featuring 37 unique installations and performances. \n
URL:https://max983.ca/event/lumiere/
ATTACH;FMTTYPE=image/png:https://max983.ca/wp-content/uploads/sites/24/2017/09/Lumiere_MAX.png
END:VEVENT
BEGIN:VEVENT
DTSTART;TZID=America/Halifax:20170923T080000
DTEND;TZID=America/Halifax:20170923T170000
DTSTAMP:20260420T025842
CREATED:20170829T174156Z
LAST-MODIFIED:20170829T174156Z
UID:3117-1506153600-1506186000@max983.ca
SUMMARY:Victory Park Fundraiser
DESCRIPTION:Victory Park Society on the Northside. We are a community minded society that formed for the purpose of capturing a section of waterfront property in the downtown for a fully accessible playground\, green space and development of commercial opportunities. On September 23 we will be partnering with Seaview Golf and Country Club to host a Nine and Dine Fundraiser. Registration for this event is $35\, which includes 9 holes of golf\, dinner catered by Mike Black of the Black Spoon\, and entertainment provided by Mark MacIntyre and Jason Kempt. Golfers can purchase a guest ticket for $20\, which includes the dinner and entertainment portion of the evening. Registration can be completed at the North Sydney Credit Union\, Escape Outdoors\, Seaview Golf and Country Club\, or by calling Heather at (902) 794-3926. E-transfers will be accepted for phone registration. \n
URL:https://max983.ca/event/victory-park-fundraiser/
END:VEVENT
BEGIN:VEVENT
DTSTART;TZID=America/Halifax:20170923T180000
DTEND;TZID=America/Halifax:20170923T220000
DTSTAMP:20260420T025842
CREATED:20170809T183328Z
LAST-MODIFIED:20170809T183328Z
UID:3061-1506189600-1506204000@max983.ca
SUMMARY:The Fortress Feast
DESCRIPTION:The Fortress Feast on September 23\, 2017 from 6 PM – 10 PM.  On the Menu:  Salute to the King\, Cocktail reception featuring Fortress Rum\, Four-course elegant dinner\, live entertainment\, magnificent fireworks show.  Tickets $100 plus tax.  Tickets available from Society of Deaf and Hard of Hearing Nova Scotians. \nThis year’s event is a fund raiser for the Society of Deaf and Hard of Hearing Nova Scotians. \n  \n
URL:https://max983.ca/event/the-fortress-feast/
END:VEVENT
BEGIN:VEVENT
DTSTART;TZID=America/Halifax:20170923T190000
DTEND;TZID=America/Halifax:20170923T220000
DTSTAMP:20260420T025842
CREATED:20170915T141504Z
LAST-MODIFIED:20170915T141504Z
UID:3199-1506193200-1506204000@max983.ca
SUMMARY:Talent and Merchandise Auction
DESCRIPTION:Bethel United Church in Marion Bridge will be holding their annual “Talent ‘n’ Merchandise” auction on Saturday\, September 23rd at 7:00pm in the evening. It is free admission with the CE Centre doors open at 6:00pm for viewing. The auctioneer is Alfie MacLeod. Address: CE Centre\, 2844 Hillside Road\, Marion Bridge\, NS B1K 1C7 \n
URL:https://max983.ca/event/talent-and-merchandise-auction/
END:VEVENT
END:VCALENDAR