BEGIN:VCALENDAR
VERSION:2.0
PRODID:-//Max 98.3 - ECPv4.6.26//NONSGML v1.0//EN
CALSCALE:GREGORIAN
METHOD:PUBLISH
X-WR-CALNAME:Max 98.3
X-ORIGINAL-URL:https://max983.ca
X-WR-CALDESC:Events for Max 98.3
BEGIN:VEVENT
DTSTART;TZID=America/Halifax:20171108T180000
DTEND;TZID=America/Halifax:20171108T200000
DTSTAMP:20260419T235320
CREATED:20171102T125747Z
LAST-MODIFIED:20171102T125747Z
UID:3450-1510164000-1510171200@max983.ca
SUMMARY:Women's Wednesdays monthly event
DESCRIPTION:A monthly event to inspire\, support\, and encourage women’s artistry in all it’s forms. This month\, Wed\, Nov. 8 our guests will be musical therapist Shelley Allen and essential oil specialist Imelda Bejar-Godinez. It’s taking place at Higher Gounds Cafe 299 Commercial Street\, North Sydney. Doors open at 6:00 pm. Donation at the door. \n
URL:https://max983.ca/event/womens-wednesdays-monthly-event/
END:VEVENT
END:VCALENDAR