BEGIN:VCALENDAR
VERSION:2.0
PRODID:-//Max 98.3 - ECPv4.6.26//NONSGML v1.0//EN
CALSCALE:GREGORIAN
METHOD:PUBLISH
X-WR-CALNAME:Max 98.3
X-ORIGINAL-URL:https://max983.ca
X-WR-CALDESC:Events for Max 98.3
BEGIN:VEVENT
DTSTART;TZID=America/Halifax:20171109T140000
DTEND;TZID=America/Halifax:20171109T160000
DTSTAMP:20260419T235242
CREATED:20171026T190045Z
LAST-MODIFIED:20171026T190045Z
UID:3424-1510236000-1510243200@max983.ca
SUMMARY:Ostomy Society Meeting
DESCRIPTION:The Cape Breton Chapter of the Ostomy Canada Society will meet on Thursday Nov 9th\,2017 from 2pm – 4pm at the CB Regional Hospital\, Sydney\, Room 2049.  Guest Speaker:  Shannah Jenson\, Convetec Rep. This is a support group for ostomates and their support/caregivers. New ostomates are welcome. \nA light lunch will be served. \nFor more information contact : Verna Petrie – 862-8540 \n
URL:https://max983.ca/event/ostomy-society-meeting/
END:VEVENT
BEGIN:VEVENT
DTSTART;TZID=America/Halifax:20171109T180000
DTEND;TZID=America/Halifax:20171109T210000
DTSTAMP:20260419T235242
CREATED:20171026T185951Z
LAST-MODIFIED:20171026T185951Z
UID:3422-1510250400-1510261200@max983.ca
SUMMARY:Board Games Night @ the Library
DESCRIPTION:\nThursday Nov 9th\, 6:00-9:00 pm \n Come and enjoy a variety of great board and card games. There are lots to choose from including Settlers of Catan\, Ticket to Ride\, Skip Bo\, classics like Balderdash\, Scrabble\, Clue\, Monopoly\, and more! Drop in and bring your friends! If you have a favorite game you’d like to share\, bring it too!  Light refreshments provided. \n \nEveryone welcome! \n
URL:https://max983.ca/event/board-games-night-the-library-4/
END:VEVENT
BEGIN:VEVENT
DTSTART;TZID=America/Halifax:20171109T180000
DTEND;TZID=America/Halifax:20171109T193000
DTSTAMP:20260419T235242
CREATED:20171026T190333Z
LAST-MODIFIED:20171026T190333Z
UID:3430-1510250400-1510255800@max983.ca
SUMMARY:Tea and Sale
DESCRIPTION:Christmas Tea & Sale \nFirst United Church \nLouisbourg\,  \nNov. 9th\, 6-7:30 P.M. \n  \n  \n
URL:https://max983.ca/event/tea-and-sale-3/
END:VEVENT
BEGIN:VEVENT
DTSTART;TZID=America/Halifax:20171109T183000
DTEND;TZID=America/Halifax:20171109T200000
DTSTAMP:20260419T235242
CREATED:20171016T185835Z
LAST-MODIFIED:20171016T185835Z
UID:3364-1510252200-1510257600@max983.ca
SUMMARY:Cape Breton’s Call to Arms\, and the CB Highlanders Association
DESCRIPTION:Cape Breton’s Call to Arms\, and the CB Highlanders Association \nThurs Nov 9th 6:30 – 8:00 pm Louisbourg Library\, 10 Upper Warren St\, Louisbourg\nLeonard Boudreau\, former Battalion Adjutant with the 2nd Battalion\, Nova Scotia Highlanders (Cape Breton)\, and President of the Cape Breton Highlanders Assoc. will talk about the involvement of Cape Bretoners during WWI and WWII\, including in the important Battle of Vimy Ridge 100 years ago. Learn about the role played by the Cape Breton and Nova Scotia Highlanders during both wars\, and what has been accomplished through the association they formed upon their return from the battlefields of Italy and Northern Europe. \n
URL:https://max983.ca/event/cape-bretons-call-to-arms-and-the-cb-highlanders-association-3/
END:VEVENT
END:VCALENDAR