BEGIN:VCALENDAR
VERSION:2.0
PRODID:-//Max 98.3 - ECPv4.6.26//NONSGML v1.0//EN
CALSCALE:GREGORIAN
METHOD:PUBLISH
X-WR-CALNAME:Max 98.3
X-ORIGINAL-URL:https://max983.ca
X-WR-CALDESC:Events for Max 98.3
BEGIN:VEVENT
DTSTART;TZID=America/Halifax:20171110T170000
DTEND;TZID=America/Halifax:20171112T160000
DTSTAMP:20260419T235242
CREATED:20171026T185702Z
LAST-MODIFIED:20171026T185702Z
UID:3418-1510333200-1510502400@max983.ca
SUMMARY:Holiday Treasures Craft Show
DESCRIPTION:The 14th Annual Holiday Treasures Craft Show will be held at Horizon Achievement Centre\, 780 Upper Prince St. Sydney Kinsmen Building. \nWe are featuring quality homemade wares by local Cape Breton crafters and artists.  Wheelchair accessible\, door prizes and full canteen services are available.  Homemade lasagna\, soups\, sandwiches\, tea biscuits\, cinnamon rolls\, pie and tea/coffee will be available. Admission is $2.00 and children under 10 are free. \nTimes: Friday       Nov 10      5-9 PM \nSaturday     Nov 11   12:30-8:30 PM \nSunday      Nov 12   11-4 PM \nPlease note late opening time on Saturday so crafters and patrons may attend Remembrance Day Ceremonies. \n  \n
URL:https://max983.ca/event/holiday-treasures-craft-show/
END:VEVENT
BEGIN:VEVENT
DTSTART;TZID=America/Halifax:20171111T090000
DTEND;TZID=America/Halifax:20171111T120000
DTSTAMP:20260419T235242
CREATED:20171107T131923Z
LAST-MODIFIED:20171107T131923Z
UID:3469-1510390800-1510401600@max983.ca
SUMMARY:Remembrance Day Ceremonies Centre 200
DESCRIPTION:Centre 200 will be the site for this years Remembrance Day Ceremonies hosted by Ashby Branch 138 of the Royal Canadian Legion. \nSchedule of Events: \n9 AM – March Off \n9:20 AM – “Tribute to the Vets” a special musical revue by Highland Arts Theatre \n10:40 AM – Official Ceremonies\, highlighted by guest speaker Lt. Gen. (rtd) Romeo Dallaire.  In 1997 Gen Dallaire revealed that he was suffering from PTSD a direct result of his posting in Rwanda where he was denied U.N. support leading to the mass genocide of 800\,000 persons.  Gen. Dallaire now devotes his time to the support of humanitarian causes\, such as the eradication of the use of child soldiers\, or the struggles faced by many veterans suffering from PTSD. \nFor further information contact Ashby Legion at (902)562-4994 or email at ashbylegion@ns.aliantzinc.ca \n  \n
URL:https://max983.ca/event/remembrance-day-ceremonies-centre-200/
END:VEVENT
BEGIN:VEVENT
DTSTART;TZID=America/Halifax:20171111T140000
DTEND;TZID=America/Halifax:20171111T160000
DTSTAMP:20260419T235242
CREATED:20171018T141358Z
LAST-MODIFIED:20171018T141358Z
UID:3398-1510408800-1510416000@max983.ca
SUMMARY:Remembrance Day Service
DESCRIPTION:The Cape Breton Highlanders Association will hold a Remembrance Day service at their cenotaph (black granite monument) on Kings Road\, Sydney. It will be held on November 11\, 2017 commencing at 2 o’clock p.m. and will recognize the ultimate sacrifice made by members of the Battalion in defence of our nation \n
URL:https://max983.ca/event/remembrance-day-service/
END:VEVENT
BEGIN:VEVENT
DTSTART;TZID=America/Halifax:20171111T190000
DTEND;TZID=America/Halifax:20171111T220000
DTSTAMP:20260419T235242
CREATED:20171016T190058Z
LAST-MODIFIED:20171019T114950Z
UID:3366-1510426800-1510437600@max983.ca
SUMMARY:Remembrance Day Concert
DESCRIPTION:The Cape Breton Chorale will present “Go Forth Upon Thy Journey”\, a Remembrance Day reflection. Saturday\, November 11th at 7:00pm Church of Christ the King\, Trinity Avenue\, Sydney General admission $20.00 Tickets available at the Curiosity Shop\, Chorale members or at the door. Proceeds to the Sister Rita Music Scholarship Program & other music initiatives related to the upkeep of the Chorale. The Cape Breton Chorale is a non profit society \n
URL:https://max983.ca/event/remembrance-day-concert/
END:VEVENT
END:VCALENDAR