BEGIN:VCALENDAR
VERSION:2.0
PRODID:-//Max 98.3 - ECPv4.6.26//NONSGML v1.0//EN
CALSCALE:GREGORIAN
METHOD:PUBLISH
X-WR-CALNAME:Max 98.3
X-ORIGINAL-URL:https://max983.ca
X-WR-CALDESC:Events for Max 98.3
BEGIN:VEVENT
DTSTART;TZID=America/Halifax:20171113T080000
DTEND;TZID=America/Halifax:20171118T170000
DTSTAMP:20260420T075904
CREATED:20171107T131136Z
LAST-MODIFIED:20171107T131136Z
UID:3467-1510560000-1511024400@max983.ca
SUMMARY:Bottle Blitz
DESCRIPTION:Bottle Blitz in aid of Mackayla MacGean will be held on November 13 – 18\, 2017 in the Bras d’Or/Florence and Surrounding Areas.  Drop Off Site is 281  Park Road\, Florence.  For further info please phone: 902-736-8002\, 902-794-8613 or 902-736-8697.  If you would like to help volunteer\, please phone any of the above number \n
URL:https://max983.ca/event/bottle-blitz/
END:VEVENT
BEGIN:VEVENT
DTSTART;TZID=America/Halifax:20171115T080000
DTEND;TZID=America/Halifax:20171125T170000
DTSTAMP:20260420T075904
CREATED:20171107T130348Z
LAST-MODIFIED:20171107T130348Z
UID:3459-1510732800-1511629200@max983.ca
SUMMARY:Library Escape Room Fundraiser ~ Lighthouse Peril
DESCRIPTION:Can YOU solve the puzzle? The Cape Breton Regional Library is holding an Escape Room at the McConnell Library in Sydney to challenge and confound puzzle solvers. The challenge runs for one and a half hours at the McConnell Library in Sydney. Teams of between 4-8 players are welcome. Bookings will run from November 15-25\, with various time-slots available. The fee is $120 per team and payment must be made at the time of booking. For more information\, contact the McConnell Library at 902-562-3161 \n
URL:https://max983.ca/event/library-escape-room-fundraiser-lighthouse-peril/
END:VEVENT
BEGIN:VEVENT
DTSTART;VALUE=DATE:20171116
DTEND;VALUE=DATE:20171117
DTSTAMP:20260420T075904
CREATED:20171011T164415Z
LAST-MODIFIED:20171011T164415Z
UID:3334-1510790400-1510876799@max983.ca
SUMMARY:Menopause the Musical
DESCRIPTION:Thursday\, Nov 16\, 2017 7:00 PM \nMENOPAUSE THE MUSICAL @ Savoy Theatre \nTickets available here. \n
URL:https://max983.ca/event/menopause-the-musical/
ATTACH;FMTTYPE=image/png:https://max983.ca/wp-content/uploads/sites/24/2017/10/Menopause.png
END:VEVENT
BEGIN:VEVENT
DTSTART;TZID=America/Halifax:20171116T130000
DTEND;TZID=America/Halifax:20171116T153000
DTSTAMP:20260420T075904
CREATED:20171017T140337Z
LAST-MODIFIED:20171017T140337Z
UID:3374-1510837200-1510846200@max983.ca
SUMMARY:Senior's Expo
DESCRIPTION:Seniors Expo: Join us on Thursday\, November 16th from 1-3:30pm at the Glace Bay Senior Citizens and Pensioners Club for a Seniors Expo. There will be over 15 exhibits\, presentations\, musical entertainment\, and light refreshments. If you would like to be an exhibitor\, please contact Mariah at (902) 849-1619. \n  \n
URL:https://max983.ca/event/seniors-expo/
END:VEVENT
END:VCALENDAR