BEGIN:VCALENDAR
VERSION:2.0
PRODID:-//Max 98.3 - ECPv4.6.26//NONSGML v1.0//EN
CALSCALE:GREGORIAN
METHOD:PUBLISH
X-WR-CALNAME:Max 98.3
X-ORIGINAL-URL:https://max983.ca
X-WR-CALDESC:Events for Max 98.3
BEGIN:VEVENT
DTSTART;TZID=America/Halifax:20171115T080000
DTEND;TZID=America/Halifax:20171125T170000
DTSTAMP:20260420T124242
CREATED:20171107T130348Z
LAST-MODIFIED:20171107T130348Z
UID:3459-1510732800-1511629200@max983.ca
SUMMARY:Library Escape Room Fundraiser ~ Lighthouse Peril
DESCRIPTION:Can YOU solve the puzzle? The Cape Breton Regional Library is holding an Escape Room at the McConnell Library in Sydney to challenge and confound puzzle solvers. The challenge runs for one and a half hours at the McConnell Library in Sydney. Teams of between 4-8 players are welcome. Bookings will run from November 15-25\, with various time-slots available. The fee is $120 per team and payment must be made at the time of booking. For more information\, contact the McConnell Library at 902-562-3161 \n
URL:https://max983.ca/event/library-escape-room-fundraiser-lighthouse-peril/
END:VEVENT
BEGIN:VEVENT
DTSTART;TZID=America/Halifax:20171117T140000
DTEND;TZID=America/Halifax:20171119T170000
DTSTAMP:20260420T124242
CREATED:20170925T181810Z
LAST-MODIFIED:20170925T181810Z
UID:3247-1510927200-1511110800@max983.ca
SUMMARY:Craft Show
DESCRIPTION:Home Crafters of Cape Breton \n30th Anniversary\, The Big One-over 220 tables \nChristmas Festival of Crafts at  Centre 200 \nFriday\, Nov. 17 2pm – 8 pm \nSaturday Nov. 18 10 am – 6 pm \nSunday Nov. 19 12pm – 5pm. \nAdmission $2.00 Under 12 free\, Wheelchair accessible. \n  \n
URL:https://max983.ca/event/craft-show/
END:VEVENT
BEGIN:VEVENT
DTSTART;TZID=America/Halifax:20171119T103000
DTEND;TZID=America/Halifax:20171119T123000
DTSTAMP:20260420T124242
CREATED:20171109T151307Z
LAST-MODIFIED:20171109T151307Z
UID:3475-1511087400-1511094600@max983.ca
SUMMARY:Anniversary Service
DESCRIPTION:St. Mary’s Anglican Church\, 8 Marconi Street\, Glace Bay will be holding an Anniversary Service on Sunday\, November 19\, 2017 at 11 AM.  Tea\, Coffee\, Music and Fellowship starting at 10 30 AM with light lunch following the 11 AM service. \n
URL:https://max983.ca/event/anniversary-service-2/
END:VEVENT
BEGIN:VEVENT
DTSTART;TZID=America/Halifax:20171119T103000
DTEND;TZID=America/Halifax:20171119T190000
DTSTAMP:20260420T124242
CREATED:20171109T152102Z
LAST-MODIFIED:20171110T124814Z
UID:3485-1511087400-1511118000@max983.ca
SUMMARY:Anniversary Service
DESCRIPTION:Bethel Presbyterian Church\,9 Brookland St. \, Sydney will be celebrating its 168th anniversary on November 19\,2017. \nWorship services are at 1030am and 700pm with guest speaker\,Rev. Corrie Stewart. Special music provided  by Cindy Price \n
URL:https://max983.ca/event/anniversary-service-3/
END:VEVENT
END:VCALENDAR