BEGIN:VCALENDAR
VERSION:2.0
PRODID:-//Max 98.3 - ECPv4.6.26//NONSGML v1.0//EN
CALSCALE:GREGORIAN
METHOD:PUBLISH
X-WR-CALNAME:Max 98.3
X-ORIGINAL-URL:https://max983.ca
X-WR-CALDESC:Events for Max 98.3
BEGIN:VEVENT
DTSTART;TZID=America/Halifax:20171115T080000
DTEND;TZID=America/Halifax:20171125T170000
DTSTAMP:20260424T112039
CREATED:20171107T130348Z
LAST-MODIFIED:20171107T130348Z
UID:3459-1510732800-1511629200@max983.ca
SUMMARY:Library Escape Room Fundraiser ~ Lighthouse Peril
DESCRIPTION:Can YOU solve the puzzle? The Cape Breton Regional Library is holding an Escape Room at the McConnell Library in Sydney to challenge and confound puzzle solvers. The challenge runs for one and a half hours at the McConnell Library in Sydney. Teams of between 4-8 players are welcome. Bookings will run from November 15-25\, with various time-slots available. The fee is $120 per team and payment must be made at the time of booking. For more information\, contact the McConnell Library at 902-562-3161 \n
URL:https://max983.ca/event/library-escape-room-fundraiser-lighthouse-peril/
END:VEVENT
BEGIN:VEVENT
DTSTART;VALUE=DATE:20171124
DTEND;VALUE=DATE:20171125
DTSTAMP:20260424T112039
CREATED:20171017T202319Z
LAST-MODIFIED:20171017T202319Z
UID:3379-1511481600-1511567999@max983.ca
SUMMARY:Black Friday Comedy
DESCRIPTION: \n
URL:https://max983.ca/event/black-friday-comedy/
END:VEVENT
BEGIN:VEVENT
DTSTART;TZID=America/Halifax:20171124T110000
DTEND;TZID=America/Halifax:20171124T130000
DTSTAMP:20260424T112039
CREATED:20171109T151442Z
LAST-MODIFIED:20171109T151442Z
UID:3477-1511521200-1511528400@max983.ca
SUMMARY:Tea and Sale
DESCRIPTION:Christmas Tea and Sale hosted by St. Mary’s Senior Guild on Friday\, November 24\, 2017 from 11 AM – 1 PM at St. Mary’s Hall\, 8 Marconi Street\, Glace Bay.  Cost $7 with special dessert.  Eat in or Take out \n
URL:https://max983.ca/event/tea-and-sale-5/
END:VEVENT
BEGIN:VEVENT
DTSTART;TZID=America/Halifax:20171124T193000
DTEND;TZID=America/Halifax:20171124T220000
DTSTAMP:20260424T112039
CREATED:20171109T152319Z
LAST-MODIFIED:20171109T152319Z
UID:3489-1511551800-1511560800@max983.ca
SUMMARY:Louisbourg Playhouse
DESCRIPTION:Friday\, Nov. 24th – Louisbourg Playhouse presents an evening of Christmas music with the Men of the Deeps. Show time 8:00pm Doors open at 7:30 Get your tickets today by calling (902) 733-3838 or purchase them on line at www.louisbourgplayhouse.ca \n
URL:https://max983.ca/event/louisbourg-playhouse/
END:VEVENT
END:VCALENDAR