BEGIN:VCALENDAR
VERSION:2.0
PRODID:-//Max 98.3 - ECPv4.6.26//NONSGML v1.0//EN
CALSCALE:GREGORIAN
METHOD:PUBLISH
X-WR-CALNAME:Max 98.3
X-ORIGINAL-URL:https://max983.ca
X-WR-CALDESC:Events for Max 98.3
BEGIN:VEVENT
DTSTART;TZID=America/Halifax:20200118T100000
DTEND;TZID=America/Halifax:20200118T120000
DTSTAMP:20260425T184607
CREATED:20200103T184838Z
LAST-MODIFIED:20200103T184838Z
UID:7258-1579341600-1579348800@max983.ca
SUMMARY:Hike Nova Scotia
DESCRIPTION:Clyburn Valley Snowshoe/Hike: Jan. 18\nHike Nova Scotia and the Cape Breton Highlands National Park present a guided hike/snowshoe in Clyburn Valley\, Ingonish on January 18 at 10 am. Details at www.hikenovascotia.ca. \n
URL:https://max983.ca/event/hike-nova-scotia-12/
END:VEVENT
BEGIN:VEVENT
DTSTART;TZID=America/Halifax:20200118T200000
DTEND;TZID=America/Halifax:20200118T233000
DTSTAMP:20260425T184607
CREATED:20200109T140920Z
LAST-MODIFIED:20200109T140920Z
UID:7284-1579377600-1579390200@max983.ca
SUMMARY:Dance
DESCRIPTION:DANCE\, next Saturday night\, Jan. 18th at 8 PM at the Sydney Mines Seniors and Pensioner’s club on Frasier Ave in Sydney Mines. For an evening of dancing and fun\, come out and listen to the great sounds of “BACK IN TIME” for all your favorite classic country and old time Rock “n” Roll songs. You might even win an even split\, usually over $100. \n
URL:https://max983.ca/event/dance-2/
END:VEVENT
END:VCALENDAR