BEGIN:VCALENDAR
VERSION:2.0
PRODID:-//Max 98.3 - ECPv4.6.26//NONSGML v1.0//EN
CALSCALE:GREGORIAN
METHOD:PUBLISH
X-WR-CALNAME:Max 98.3
X-ORIGINAL-URL:https://max983.ca
X-WR-CALDESC:Events for Max 98.3
BEGIN:VEVENT
DTSTART;TZID=America/Halifax:20200122T140000
DTEND;TZID=America/Halifax:20200122T160000
DTSTAMP:20260425T122522
CREATED:20191219T175711Z
LAST-MODIFIED:20191219T175711Z
UID:7219-1579701600-1579708800@max983.ca
SUMMARY:Mira Center Card Game
DESCRIPTION:Wednesday\, January 22 – Cards at the Centre from 2 – 4 p.m. Cost is $5.00 \n
URL:https://max983.ca/event/mira-center-card-game-2/
END:VEVENT
END:VCALENDAR