BEGIN:VCALENDAR
VERSION:2.0
PRODID:-//Max 98.3 - ECPv4.6.26//NONSGML v1.0//EN
CALSCALE:GREGORIAN
METHOD:PUBLISH
X-WR-CALNAME:Max 98.3
X-ORIGINAL-URL:https://max983.ca
X-WR-CALDESC:Events for Max 98.3
BEGIN:VEVENT
DTSTART;TZID=America/Halifax:20200209T133000
DTEND;TZID=America/Halifax:20200209T160000
DTSTAMP:20260424T060415
CREATED:20200207T125858Z
LAST-MODIFIED:20200207T125858Z
UID:7597-1581255000-1581264000@max983.ca
SUMMARY:Tarbish
DESCRIPTION:Tarbish Game \nSundays at 1:30 PM \nWhitney Pier Seniors Hall \n
URL:https://max983.ca/event/tarbish/2020-02-09/
END:VEVENT
BEGIN:VEVENT
DTSTART;TZID=America/Halifax:20200209T170000
DTEND;TZID=America/Halifax:20200209T190000
DTSTAMP:20260424T060415
CREATED:20200120T131235Z
LAST-MODIFIED:20200120T131235Z
UID:7346-1581267600-1581274800@max983.ca
SUMMARY:Hike Nova Scotia
DESCRIPTION:Freshwater Lake Full Moon Snowshoe/Hike: Feb. 9\nHike Nova Scotia and the Cape Breton Highlands National Park present a guided full moon hike/snowshoe at Freshwater Lake in Ingonish Beach on February 9 at 5 pm. Details at www.hikenovascotia.ca. \n
URL:https://max983.ca/event/hike-nova-scotia-18/
END:VEVENT
END:VCALENDAR