BEGIN:VCALENDAR
VERSION:2.0
PRODID:-//Max 98.3 - ECPv4.6.26//NONSGML v1.0//EN
CALSCALE:GREGORIAN
METHOD:PUBLISH
X-WR-CALNAME:Max 98.3
X-ORIGINAL-URL:https://max983.ca
X-WR-CALDESC:Events for Max 98.3
BEGIN:VEVENT
DTSTART;TZID=America/Halifax:20200214T190000
DTEND;TZID=America/Halifax:20200215T170000
DTSTAMP:20260423T201855
CREATED:20200127T132522Z
LAST-MODIFIED:20200127T132522Z
UID:7416-1581706800-1581786000@max983.ca
SUMMARY:Hike Nova Scotia
DESCRIPTION:West Mabou Moonlite Jaunt: Feb. 14\nHike Nova Scotia and the West Mabou Sports Club present a guided moonlit snowshoe or hike in West Mabou on February 14 at 7 pm. Registration details at www.hikenovascotia.ca. \nWarren Lake Snowshoe/Hike: Feb. 15\nHike Nova Scotia and the Hike the Highlands Festival Society present a guided hike/snowshoe at Warren Lake in Ingonish on February 15 at 10 am. Details at www.hikenovascotia.ca. \n
URL:https://max983.ca/event/hike-nova-scotia-20/
END:VEVENT
BEGIN:VEVENT
DTSTART;TZID=America/Halifax:20200215T093000
DTEND;TZID=America/Halifax:20200215T110000
DTSTAMP:20260423T201855
CREATED:20200205T134042Z
LAST-MODIFIED:20200205T134042Z
UID:7504-1581759000-1581764400@max983.ca
SUMMARY:Good Food Bus
DESCRIPTION:Good Food Bus\, Affordable\, Fresh Food Market on Wheels \nLocation:  Warden United Church \nDate:  Feb 15th\, Feb 29th\, Mar 14th \nTime:  930 AM – 1100 AM \n
URL:https://max983.ca/event/good-food-bus-2/
END:VEVENT
BEGIN:VEVENT
DTSTART;TZID=America/Halifax:20200215T110000
DTEND;TZID=America/Halifax:20200215T123000
DTSTAMP:20260423T201855
CREATED:20200205T172443Z
LAST-MODIFIED:20200205T172443Z
UID:7548-1581764400-1581769800@max983.ca
SUMMARY:Free Skate
DESCRIPTION:Sydney Mines & District Community Center is offering free family skates for the month of Feb. and March 2020. Every Saturday from 11am to 12:30pm \n  \nFeb. 15th sponsored by Burton’s Flooring\, Sydney Mines \n  \n
URL:https://max983.ca/event/free-skate-5/
END:VEVENT
BEGIN:VEVENT
DTSTART;TZID=America/Halifax:20200215T130000
DTEND;TZID=America/Halifax:20200215T143000
DTSTAMP:20260423T201855
CREATED:20200205T134320Z
LAST-MODIFIED:20200205T134320Z
UID:7510-1581771600-1581777000@max983.ca
SUMMARY:Good Food Bus
DESCRIPTION:Good Food Bus\, Affordable\, Fresh Food Market on Wheels \nLocation:  Polish Village Hall\, Whitney Pier \nDate:  Feb 15th\, Feb 29th\, Mar 14th \nTime:  100 PM – 230 PM \n
URL:https://max983.ca/event/good-food-bus-5/
END:VEVENT
END:VCALENDAR