BEGIN:VCALENDAR
VERSION:2.0
PRODID:-//Max 98.3 - ECPv4.6.26//NONSGML v1.0//EN
CALSCALE:GREGORIAN
METHOD:PUBLISH
X-WR-CALNAME:Max 98.3
X-ORIGINAL-URL:https://max983.ca
X-WR-CALDESC:Events for Max 98.3
BEGIN:VEVENT
DTSTART;TZID=America/Halifax:20200219T133000
DTEND;TZID=America/Halifax:20200219T153000
DTSTAMP:20260421T091421
CREATED:20200127T131826Z
LAST-MODIFIED:20200127T131826Z
UID:7412-1582119000-1582126200@max983.ca
SUMMARY:Living with Cancer Support Group
DESCRIPTION:Living With Cancer Support Group\, a support group for those who have had a diagnosis of cancer\, for their family\, caregivers will meet Wednesday\, Feb. 19th\, 2020 1:30 pm – 3:30 pm at Royal Canadian Legion\, Branch 128 (Pier)\, Victoria Road. –\nFor more information contact Alicia at 902-567-8556 (at the Cancer Center) \n
URL:https://max983.ca/event/living-with-cancer-support-group-13/
END:VEVENT
BEGIN:VEVENT
DTSTART;TZID=America/Halifax:20200219T133000
DTEND;TZID=America/Halifax:20200219T153000
DTSTAMP:20260421T091421
CREATED:20200210T180347Z
LAST-MODIFIED:20200210T180347Z
UID:7696-1582119000-1582126200@max983.ca
SUMMARY:Senior Social
DESCRIPTION:Wednesday\, February 19th from 1:30-3:30pm at Louisbourg Fire Hall\nFeaturing: Music by Ukulele Strummers\, light lunch and Bingo!\nFree Admission – All are Welcome!\nSponsor: Fortress Seniors Club in conjunction with CBRM Recreation (part of Taste of Winter Program) \n
URL:https://max983.ca/event/senior-social/
END:VEVENT
BEGIN:VEVENT
DTSTART;TZID=America/Halifax:20200219T140000
DTEND;TZID=America/Halifax:20200219T160000
DTSTAMP:20260421T091421
CREATED:20200120T133947Z
LAST-MODIFIED:20200120T133947Z
UID:7352-1582120800-1582128000@max983.ca
SUMMARY:Mira Centre Card Game
DESCRIPTION:Wednesday February 19th Cards at the Centre from 2 – 4 p.m. Cost is $5.00 Everyone is welcome. \n  \n
URL:https://max983.ca/event/mira-centre-card-game-2/
END:VEVENT
END:VCALENDAR