BEGIN:VCALENDAR
VERSION:2.0
PRODID:-//Max 98.3 - ECPv4.6.26//NONSGML v1.0//EN
CALSCALE:GREGORIAN
METHOD:PUBLISH
X-WR-CALNAME:Max 98.3
X-ORIGINAL-URL:https://max983.ca
X-WR-CALDESC:Events for Max 98.3
BEGIN:VEVENT
DTSTART;TZID=America/Halifax:20200222T093000
DTEND;TZID=America/Halifax:20200222T110000
DTSTAMP:20260421T040406
CREATED:20200205T135941Z
LAST-MODIFIED:20200205T135941Z
UID:7518-1582363800-1582369200@max983.ca
SUMMARY:Good Food Bus
DESCRIPTION:Good Food Bus\, Affordable\, Fresh Food Market on Wheels \nLocation:  Coastal Discovery Centre\, Main-A-Dieu \nDate:  Feb 22nd\, Mar 7th\, Mar 21st \nTime:  930 AM – 1100 AM \n
URL:https://max983.ca/event/good-food-bus-9/
END:VEVENT
BEGIN:VEVENT
DTSTART;TZID=America/Halifax:20200222T110000
DTEND;TZID=America/Halifax:20200222T123000
DTSTAMP:20260421T040406
CREATED:20200205T172545Z
LAST-MODIFIED:20200205T172545Z
UID:7550-1582369200-1582374600@max983.ca
SUMMARY:Free Skate
DESCRIPTION:Sydney Mines & District Community Center is offering free family skates for the month of Feb. and March 2020. Every Saturday from 11am to 12:30pm \n  \nFeb. 22nd sponsored by Northside Policing Office\, Sydney Mines \n  \n
URL:https://max983.ca/event/free-skate-6/
END:VEVENT
BEGIN:VEVENT
DTSTART;TZID=America/Halifax:20200222T130000
DTEND;TZID=America/Halifax:20200222T143000
DTSTAMP:20260421T040406
CREATED:20200205T140333Z
LAST-MODIFIED:20200205T140333Z
UID:7526-1582376400-1582381800@max983.ca
SUMMARY:Good Food Bus
DESCRIPTION:Good Food Bus\, Affordable\, Fresh Food Market on Wheels \nLocation:  Heritage Park\, Membertou \nDate:  Feb 22nd\, Mar 7th\, Mar 21st \nTime:  100 PM – 230 PM \n
URL:https://max983.ca/event/good-food-bus-13/
END:VEVENT
BEGIN:VEVENT
DTSTART;TZID=America/Halifax:20200222T130000
DTEND;TZID=America/Halifax:20200222T143000
DTSTAMP:20260421T040406
CREATED:20200205T140415Z
LAST-MODIFIED:20200205T140415Z
UID:7528-1582376400-1582381800@max983.ca
SUMMARY:Good Food Bus
DESCRIPTION:Good Food Bus\, Affordable\, Fresh Food Market on Wheels \nLocation:  Heritage Park\, Membertou \nDate:   Feb 22nd\, Mar 7th\, Mar 21st \nTime:  100 PM – 230 PM \n
URL:https://max983.ca/event/good-food-bus-14/
END:VEVENT
END:VCALENDAR