BEGIN:VCALENDAR
VERSION:2.0
PRODID:-//Max 98.3 - ECPv4.6.26//NONSGML v1.0//EN
CALSCALE:GREGORIAN
METHOD:PUBLISH
X-WR-CALNAME:Max 98.3
X-ORIGINAL-URL:https://max983.ca
X-WR-CALDESC:Events for Max 98.3
BEGIN:VEVENT
DTSTART;TZID=America/Halifax:20200224T130000
DTEND;TZID=America/Halifax:20200224T140000
DTSTAMP:20260421T010306
CREATED:20200220T132106Z
LAST-MODIFIED:20200220T132106Z
UID:7768-1582549200-1582552800@max983.ca
SUMMARY:Fitness Class
DESCRIPTION:Cape Breton East Chapter of the Parkinson Society\, welcomes those suffering from Neurological disorders to a weekly Fitness Class on Mondays\, 1 PM at the Grand Lake Road Firehall Auditorium\, 850 Grand Lake Road\, Sydney. \n
URL:https://max983.ca/event/fitness-class/2020-02-24/
END:VEVENT
BEGIN:VEVENT
DTSTART;TZID=America/Halifax:20200224T133000
DTEND;TZID=America/Halifax:20200224T163000
DTSTAMP:20260421T010306
CREATED:20200127T134240Z
LAST-MODIFIED:20200127T134240Z
UID:7429-1582551000-1582561800@max983.ca
SUMMARY:Tarabish Tournament
DESCRIPTION:Tarabish Tournament at the Steelworkers and Sydney Pensioners Club\, Inglis Street\, Sydney.  Members only.  Want to be a member call Cathy 902-564-4293 \n
URL:https://max983.ca/event/tarabish-tournament-8/
END:VEVENT
END:VCALENDAR