BEGIN:VCALENDAR
VERSION:2.0
PRODID:-//Max 98.3 - ECPv4.6.26//NONSGML v1.0//EN
CALSCALE:GREGORIAN
METHOD:PUBLISH
X-WR-CALNAME:Max 98.3
X-ORIGINAL-URL:https://max983.ca
X-WR-CALDESC:Events for Max 98.3
BEGIN:VEVENT
DTSTART;TZID=America/Halifax:20200225T070000
DTEND;TZID=America/Halifax:20200225T140000
DTSTAMP:20260420T233041
CREATED:20200127T131722Z
LAST-MODIFIED:20200127T131722Z
UID:7410-1582614000-1582639200@max983.ca
SUMMARY:Pancake Breakfast and Dinner
DESCRIPTION:The #2 Royal Canadian Sea Cadets will hosting a pancake with sausage breakfast and dinner fundraiser at the branch 12 legion on Dorchester st in Sydney on Tuesday\, February 25th from 7am to 2pm. Cost will be $10 and will be available for eat in and take out. \n
URL:https://max983.ca/event/pancake-breakfast-and-dinner/
END:VEVENT
BEGIN:VEVENT
DTSTART;TZID=America/Halifax:20200225T160000
DTEND;TZID=America/Halifax:20200225T180000
DTSTAMP:20260420T233041
CREATED:20200210T131926Z
LAST-MODIFIED:20200213T150134Z
UID:7673-1582646400-1582653600@max983.ca
SUMMARY:Pancake and Sausage Supper
DESCRIPTION:Pancake & Sausage Supper\nTues. Feb 25th 4-6 pm\nSt. Columba Church Hall\nMARION BRIDGE\n$8 Adults & $4 Children\nEat In or Take Out Available\nSponsor:Board of Managers-St. Columba Church Marion Bridge \n
URL:https://max983.ca/event/pancake-and-sausage-breakfast-15/
END:VEVENT
END:VCALENDAR