BEGIN:VCALENDAR
VERSION:2.0
PRODID:-//Max 98.3 - ECPv4.6.26//NONSGML v1.0//EN
CALSCALE:GREGORIAN
METHOD:PUBLISH
X-WR-CALNAME:Max 98.3
X-ORIGINAL-URL:https://max983.ca
X-WR-CALDESC:Events for Max 98.3
BEGIN:VEVENT
DTSTART;TZID=America/Halifax:20200312T113000
DTEND;TZID=America/Halifax:20200312T130000
DTSTAMP:20260420T102535
CREATED:20200205T142509Z
LAST-MODIFIED:20200205T142509Z
UID:7541-1584012600-1584018000@max983.ca
SUMMARY:Good Food Bus
DESCRIPTION:Good Food Bus\, Affordable\, Fresh Food Market on Wheels \nLocation:  Multipurpose Room\, CBU \nDate:   Mar 12\, Mar 26th \nTime:  1130 AM – 100 PM \n
URL:https://max983.ca/event/good-food-bus-19/
END:VEVENT
BEGIN:VEVENT
DTSTART;TZID=America/Halifax:20200312T140000
DTEND;TZID=America/Halifax:20200312T160000
DTSTAMP:20260420T102535
CREATED:20200213T193109Z
LAST-MODIFIED:20200213T193109Z
UID:7750-1584021600-1584028800@max983.ca
SUMMARY:Cape Breton Ostomy Support Group
DESCRIPTION:The Cape Breton Ostomy support group will meet on Thursday\, March 12th at 2pm – 4 pm at the South Bar Fire Hall\, South Bar. Guest Speaker will be Avery Tremblett – Dietition with Sobeys. Please Note: If school is cancelled that day due to weather\, the meeting will also be cancelled. This group is for those who have an ostomy\, will be having an ostomy and their support person. For more information\, contact Stasia at 902-562-1367 \n
URL:https://max983.ca/event/cape-breton-ostomy-support-group/
END:VEVENT
END:VCALENDAR