BEGIN:VCALENDAR
VERSION:2.0
PRODID:-//Max 98.3 - ECPv4.6.26//NONSGML v1.0//EN
CALSCALE:GREGORIAN
METHOD:PUBLISH
X-WR-CALNAME:Max 98.3
X-ORIGINAL-URL:https://max983.ca
X-WR-CALDESC:Events for Max 98.3
BEGIN:VEVENT
DTSTART;TZID=America/Halifax:20200313T083000
DTEND;TZID=America/Halifax:20200313T100000
DTSTAMP:20260420T120551
CREATED:20200310T174342Z
LAST-MODIFIED:20200310T174342Z
UID:7943-1584088200-1584093600@max983.ca
SUMMARY:Breakfast and Conversation with Honourable Mayann Francis
DESCRIPTION:You are invited to a breakfast conversation with the Honourable Mayann Francis\, former Lieutenant Governor\, at the Polish Village Hall in Whitney Pier this Friday\, March 13\, from 8:30 a.m. to 10 a.m. Dr. Francis will be speaking about “Building Healthy Communities for Children.” There is no charge. \n
URL:https://max983.ca/event/breakfast-and-conversation-with-honourable-mayann-francis/
END:VEVENT
BEGIN:VEVENT
DTSTART;TZID=America/Halifax:20200313T200000
DTEND;TZID=America/Halifax:20200313T233000
DTSTAMP:20260420T120551
CREATED:20200220T134319Z
LAST-MODIFIED:20200220T134319Z
UID:7792-1584129600-1584142200@max983.ca
SUMMARY:Dance
DESCRIPTION:Dance at the Steelworkers and Sydney Pensioners Club on Friday\, March 13th at 8 PM.  Music by First Choice. \n
URL:https://max983.ca/event/dance-3/
END:VEVENT
END:VCALENDAR