BEGIN:VCALENDAR
VERSION:2.0
PRODID:-//Max 98.3 - ECPv4.6.26//NONSGML v1.0//EN
CALSCALE:GREGORIAN
METHOD:PUBLISH
X-WR-CALNAME:Max 98.3
X-ORIGINAL-URL:https://max983.ca
X-WR-CALDESC:Events for Max 98.3
BEGIN:VEVENT
DTSTART;VALUE=DATE:20211122
DTEND;VALUE=DATE:20211207
DTSTAMP:20260421T051230
CREATED:20211123T161828Z
LAST-MODIFIED:20211123T161828Z
UID:11173-1637539200-1638835199@max983.ca
SUMMARY:The Mickey McNeil Turkey drive for the Glace Bay Food Bank
DESCRIPTION:The turkey drive will start on Nov 22nd till Dec 6th\, the cost is $21 each.  Money can be sent in e-transfers to\, all small letters ( xavierandkennedy@hotmail.com ) looking to buy at least 100.  Can contact Mickey Mc Neil at the Dominion Arena.  Turkeys will be dropped off at the Glace Bay Food Bank\, let’s make this happen!  In the words of Mickey McNeil\, “we have potatoes\, carrots\, turnips but need a turkey to make it complete.”  We did 150 last year and hope to do the same this year\, need any other information\, please contact Mickey by phone 902-849-4320 or cell 902-574-4321. \nThank you to all those who donate! \n
URL:https://max983.ca/event/the-mickey-mcneil-turkey-drive-for-the-glace-bay-food-bank/
CATEGORIES:Charity Events
END:VEVENT
END:VCALENDAR